BEGIN:VCALENDAR
VERSION:2.0
PRODID:-// - ECPv6.15.20//NONSGML v1.0//EN
CALSCALE:GREGORIAN
METHOD:PUBLISH
X-ORIGINAL-URL:https://radfahrerclub.de
X-WR-CALDESC:Veranstaltungen für 
REFRESH-INTERVAL;VALUE=DURATION:PT1H
X-Robots-Tag:noindex
X-PUBLISHED-TTL:PT1H
BEGIN:VTIMEZONE
TZID:Europe/Berlin
BEGIN:DAYLIGHT
TZOFFSETFROM:+0100
TZOFFSETTO:+0200
TZNAME:CEST
DTSTART:20240331T010000
END:DAYLIGHT
BEGIN:STANDARD
TZOFFSETFROM:+0200
TZOFFSETTO:+0100
TZNAME:CET
DTSTART:20241027T010000
END:STANDARD
BEGIN:DAYLIGHT
TZOFFSETFROM:+0100
TZOFFSETTO:+0200
TZNAME:CEST
DTSTART:20250330T010000
END:DAYLIGHT
BEGIN:STANDARD
TZOFFSETFROM:+0200
TZOFFSETTO:+0100
TZNAME:CET
DTSTART:20251026T010000
END:STANDARD
BEGIN:DAYLIGHT
TZOFFSETFROM:+0100
TZOFFSETTO:+0200
TZNAME:CEST
DTSTART:20260329T010000
END:DAYLIGHT
BEGIN:STANDARD
TZOFFSETFROM:+0200
TZOFFSETTO:+0100
TZNAME:CET
DTSTART:20261025T010000
END:STANDARD
END:VTIMEZONE
BEGIN:VEVENT
DTSTART;TZID=Europe/Berlin:20251001T170000
DTEND;TZID=Europe/Berlin:20251001T170000
DTSTAMP:20260419T201137
CREATED:20250105T165346Z
LAST-MODIFIED:20250909T152000Z
UID:1069-1759338000-1759338000@radfahrerclub.de
SUMMARY:Rennradtour
DESCRIPTION:Auf den Rennradtouren des RCKL werden zwei Geschwindigkeitsgruppen – „Espresso und Cappuccino“ – angeboten. \nBei „Espresso“ wird eine Geschwindigkeit von 28 km/h (im Durchschnitt) und mehr gefahren. \nBei „Cappuccino“ wird eine Geschwindigkeit bis 24 km/h (im Durchschnitt) gefahren. \nDie Zuordnung erfolgt jeweils spontan am Heimatbrunnen. \nDie Streckenlänge beträgt ca. 50 km. \nJede Tour wird von einem erfahrenen Guide geleitet. \nSollte eine Tour ausfallen\, wird dies innerhalb der RCKL-Signal-Gruppe mitgeteilt. \nNach der Tour\, gegen 20:00 Uhr\, treffen sich die Gruppen mit Mitgliedern und Gästen zum jour fixe in einer Gaststätte in KR-Linn.
URL:https://radfahrerclub.de/event/rennradtour-49/
LOCATION:Heimatbrunnen KR-Linn\, Heimatbrunnen\, Krefeld-Linn\, NRW\, 47809\, Deutschland
CATEGORIES:Rennradtour
ORGANIZER;CN="Radfahrer-Club Krefeld-Linn 1897 e.V.":MAILTO:info@radfahrerclub.de
END:VEVENT
BEGIN:VEVENT
DTSTART;TZID=Europe/Berlin:20251001T170000
DTEND;TZID=Europe/Berlin:20251001T170000
DTSTAMP:20260419T201137
CREATED:20250105T182401Z
LAST-MODIFIED:20250909T151936Z
UID:1152-1759338000-1759338000@radfahrerclub.de
SUMMARY:Graveltour
DESCRIPTION:Auf den Graveltouren des RCKL werden am Niederrhein u.a. Feld- und Waldwege befahren. Das Tempo ist stets angepasst und liegt zwischen 18 km/h und 20 km/h. Die Dauer liegt zwischen 2 bis 2\,5 Stunden. Jede Tour wird von einem Guide geleitet. \nGäste und Mitglieder sind herzlich willkommen. \nFür die Touren sind Gravelbikes\, Mountainbikes und Cyclocrosser sehr gut geeignet. \nSollten die Witterungsverhältnisse eine Graveltour nicht zulassen\, wird diese kurzfristig über die RCKL-Signal-Gruppe abgesagt. \nNach der Tour\, gegen 20:00 Uhr\, treffen sich die Gruppen mit Mitgliedern und Gästen zum jour fixe in einer Gaststätte in KR-Linn.
URL:https://radfahrerclub.de/event/graveltour-47/
LOCATION:Heimatbrunnen KR-Linn\, Heimatbrunnen\, Krefeld-Linn\, NRW\, 47809\, Deutschland
CATEGORIES:Graveltouren
ORGANIZER;CN="Radfahrer-Club Krefeld-Linn 1897 e.V.":MAILTO:info@radfahrerclub.de
END:VEVENT
BEGIN:VEVENT
DTSTART;TZID=Europe/Berlin:20251002T103000
DTEND;TZID=Europe/Berlin:20251002T103000
DTSTAMP:20260419T201137
CREATED:20250822T140849Z
LAST-MODIFIED:20250822T140849Z
UID:1256-1759401000-1759401000@radfahrerclub.de
SUMMARY:Radwanderung
DESCRIPTION:Auf den stets geleiteten und legendären Radwanderungen des RCKL lernst Du den Niederrhein von seiner schönsten Seite kennen. Unsere Touren sind u.a. aus dem historischen Fahrtenbuch des RCKL entnommen. Auf der Donnerstags-Tour wird eingekehrt. \nGäste und Mitglieder sind herzlich willkommen! \nOb eBike\, Tourenrad oder historisches Rad\, alle Fahrradtypen sind zulässig. \nUm Anmeldung wird gebeten unter Tel. 02151/398739 oder info@radfahrerclub.de \nTerminänderungen sind ausdrücklich vorbehalten. \nBei Regen\, Schnee oder Glatteis fällt die Radwanderung aus.
URL:https://radfahrerclub.de/event/radwanderung-3/
LOCATION:Heimatbrunnen KR-Linn\, Heimatbrunnen\, Krefeld-Linn\, NRW\, 47809\, Deutschland
CATEGORIES:Radwanderung
ORGANIZER;CN="Radfahrer-Club Krefeld-Linn 1897 e.V.":MAILTO:info@radfahrerclub.de
END:VEVENT
BEGIN:VEVENT
DTSTART;TZID=Europe/Berlin:20251005T110000
DTEND;TZID=Europe/Berlin:20251005T110000
DTSTAMP:20260419T201137
CREATED:20250822T082304Z
LAST-MODIFIED:20250822T082304Z
UID:1225-1759662000-1759662000@radfahrerclub.de
SUMMARY:Graveltour - Wintersaison - Opening
DESCRIPTION:WINTERSAISON – OPENING \n  \n  \nGraveltour auf den Egelsberg mit Fahrsicherheitstraining! \nAnschließend wird bei einem Clubmitglied gegrillt! \nAuf den Graveltouren des RCKL werden am Niederrhein u.a. Feld- und Waldwege befahren. Das Tempo ist stets angepasst und liegt zwischen 18 km/h und 20 km/h. Die Dauer liegt zwischen 2 bis 2\,5 Stunden. Jede Tour wird von einem Guide geleitet. \nGäste und Mitglieder sind herzlich willkommen. \nFür die Touren sind Gravelbikes\, Mountainbikes und Cyclocrosser sehr gut geeignet. \nSollten die Witterungsverhältnisse eine Graveltour nicht zulassen\, wird diese kurzfristig über die RCKL-Signal-Gruppe abgesagt. \n 
URL:https://radfahrerclub.de/event/graveltour-wintersaison-opening/
LOCATION:Heimatbrunnen KR-Linn\, Heimatbrunnen\, Krefeld-Linn\, NRW\, 47809\, Deutschland
CATEGORIES:Graveltouren
ORGANIZER;CN="Radfahrer-Club Krefeld-Linn 1897 e.V.":MAILTO:info@radfahrerclub.de
END:VEVENT
BEGIN:VEVENT
DTSTART;TZID=Europe/Berlin:20251008T163000
DTEND;TZID=Europe/Berlin:20251008T180000
DTSTAMP:20260419T201137
CREATED:20251027T144316Z
LAST-MODIFIED:20251027T144316Z
UID:1348-1759941000-1759946400@radfahrerclub.de
SUMMARY:Graveltraining - Sportplatz LSV
DESCRIPTION:  \nGraveltraining auf dem Sportplatz des Linner Spielvereins 1918 e.V. (LSV) mit Fahrsicherheitstraining. \nGäste herzlich willkommen!
URL:https://radfahrerclub.de/event/graveltraining-sportplatz-lsv/
LOCATION:Linner Spielverein 1918 e.V.\, Kurkölner Str. 30\, Krefeld\, NRW\, 47809\, Germany
CATEGORIES:Graveltouren
ORGANIZER;CN="Radfahrer-Club Krefeld-Linn 1897 e.V.":MAILTO:info@radfahrerclub.de
END:VEVENT
BEGIN:VEVENT
DTSTART;TZID=Europe/Berlin:20251011T080000
DTEND;TZID=Europe/Berlin:20251011T080000
DTSTAMP:20260419T201137
CREATED:20250822T143805Z
LAST-MODIFIED:20250822T145339Z
UID:1270-1760169600-1760169600@radfahrerclub.de
SUMMARY:UCI-Gravel-WM 2025 (Damen) in Zuid-Limburg\, NL
DESCRIPTION:Die Radsportfreunde der Gravelgruppe des RCKL fahren mit dem Gravelbike zur UCI-Gravel-WM 2025 (Damen) in Zuid-Limburg\, NL. \nMitglieder und Gäste sind herzlich willkommen. \nEinzelheiten folgen!
URL:https://radfahrerclub.de/event/uci-gravel-wm-2025-in-zuid-limburg-nl/
LOCATION:Heimatbrunnen KR-Linn\, Heimatbrunnen\, Krefeld-Linn\, NRW\, 47809\, Deutschland
CATEGORIES:Graveltouren
ORGANIZER;CN="Radfahrer-Club Krefeld-Linn 1897 e.V.":MAILTO:info@radfahrerclub.de
END:VEVENT
BEGIN:VEVENT
DTSTART;TZID=Europe/Berlin:20251015T163000
DTEND;TZID=Europe/Berlin:20251015T180000
DTSTAMP:20260419T201137
CREATED:20251027T144650Z
LAST-MODIFIED:20251027T144650Z
UID:1354-1760545800-1760551200@radfahrerclub.de
SUMMARY:Graveltraining - Sportplatz LSV
DESCRIPTION:Graveltraining auf dem Sportplatz des Linner Spielvereins 1918 e.V. (LSV) mit Fahrsicherheitstraining. \nGäste herzlich willkommen! \n!!! Beleuchtung zwingend erforderlich !!!
URL:https://radfahrerclub.de/event/graveltraining-sportplatz-lsv-2/
LOCATION:Linner Spielverein 1918 e.V.\, Kurkölner Str. 30\, Krefeld\, NRW\, 47809\, Germany
CATEGORIES:Graveltouren
ORGANIZER;CN="Radfahrer-Club Krefeld-Linn 1897 e.V.":MAILTO:info@radfahrerclub.de
END:VEVENT
BEGIN:VEVENT
DTSTART;TZID=Europe/Berlin:20251016T103000
DTEND;TZID=Europe/Berlin:20251016T103000
DTSTAMP:20260419T201137
CREATED:20250822T141010Z
LAST-MODIFIED:20250822T141010Z
UID:1258-1760610600-1760610600@radfahrerclub.de
SUMMARY:Radwanderung
DESCRIPTION:Auf den stets geleiteten und legendären Radwanderungen des RCKL lernst Du den Niederrhein von seiner schönsten Seite kennen. Unsere Touren sind u.a. aus dem historischen Fahrtenbuch des RCKL entnommen. Auf der Donnerstags-Tour wird eingekehrt. \nGäste und Mitglieder sind herzlich willkommen! \nOb eBike\, Tourenrad oder historisches Rad\, alle Fahrradtypen sind zulässig. \nUm Anmeldung wird gebeten unter Tel. 02151/398739 oder info@radfahrerclub.de \nTerminänderungen sind ausdrücklich vorbehalten. \nBei Regen\, Schnee oder Glatteis fällt die Radwanderung aus.
URL:https://radfahrerclub.de/event/radwanderung-4/
LOCATION:Heimatbrunnen KR-Linn\, Heimatbrunnen\, Krefeld-Linn\, NRW\, 47809\, Deutschland
CATEGORIES:Radwanderung
ORGANIZER;CN="Radfahrer-Club Krefeld-Linn 1897 e.V.":MAILTO:info@radfahrerclub.de
END:VEVENT
BEGIN:VEVENT
DTSTART;TZID=Europe/Berlin:20251019T110000
DTEND;TZID=Europe/Berlin:20251019T110000
DTSTAMP:20260419T201137
CREATED:20250822T144028Z
LAST-MODIFIED:20250822T144028Z
UID:1272-1760871600-1760871600@radfahrerclub.de
SUMMARY:Graveltour
DESCRIPTION:Auf den Graveltouren des RCKL werden am Niederrhein u.a. Feld- und Waldwege befahren. Das Tempo ist stets angepasst und liegt zwischen 18 km/h und 20 km/h. Die Dauer liegt zwischen 2 bis 3 Stunden. Jede Tour wird von einem Guide geleitet. \nGäste und Mitglieder sind herzlich willkommen. \nFür die Touren sind Gravelbikes\, Mountainbikes und Cyclocrosser sehr gut geeignet. \nSollten die Witterungsverhältnisse eine Graveltour nicht zulassen\, wird diese kurzfristig über die RCKL-Signal-Gruppe abgesagt.
URL:https://radfahrerclub.de/event/graveltour/
LOCATION:Heimatbrunnen KR-Linn\, Heimatbrunnen\, Krefeld-Linn\, NRW\, 47809\, Deutschland
CATEGORIES:Graveltouren
ORGANIZER;CN="Radfahrer-Club Krefeld-Linn 1897 e.V.":MAILTO:info@radfahrerclub.de
END:VEVENT
BEGIN:VEVENT
DTSTART;TZID=Europe/Berlin:20251022T163000
DTEND;TZID=Europe/Berlin:20251022T180000
DTSTAMP:20260419T201137
CREATED:20251027T150348Z
LAST-MODIFIED:20251027T150348Z
UID:1357-1761150600-1761156000@radfahrerclub.de
SUMMARY:Graveltraining - Sportplatz LSV
DESCRIPTION:Graveltraining auf dem Sportplatz des Linner Spielvereins 1918 e.V. (LSV) mit Fahrsicherheitstraining. \nGäste herzlich willkommen! \n!!! Beleuchtung zwingend erforderlich !!! \n 
URL:https://radfahrerclub.de/event/graveltraining-sportplatz-lsv-3/
LOCATION:Linner Spielverein 1918 e.V.\, Kurkölner Str. 30\, Krefeld\, NRW\, 47809\, Germany
CATEGORIES:Graveltouren
ORGANIZER;CN="Radfahrer-Club Krefeld-Linn 1897 e.V.":MAILTO:info@radfahrerclub.de
END:VEVENT
BEGIN:VEVENT
DTSTART;TZID=Europe/Berlin:20251029T163000
DTEND;TZID=Europe/Berlin:20251029T180000
DTSTAMP:20260419T201137
CREATED:20251027T150534Z
LAST-MODIFIED:20251027T150635Z
UID:1359-1761755400-1761760800@radfahrerclub.de
SUMMARY:Graveltraining - Sportplatz LSV
DESCRIPTION:Graveltraining auf dem Sportplatz des Linner Spielvereins 1918 e.V. (LSV) mit Fahrsicherheitstraining. \nGäste herzlich willkommen! \n!!! Beleuchtung zwingend erforderlich !!! \n 
URL:https://radfahrerclub.de/event/graveltraining-sportplatz-lsv-4/
LOCATION:Linner Spielverein 1918 e.V.\, Kurkölner Str. 30\, Krefeld\, NRW\, 47809\, Germany
CATEGORIES:Graveltouren
ORGANIZER;CN="Radfahrer-Club Krefeld-Linn 1897 e.V.":MAILTO:info@radfahrerclub.de
END:VEVENT
END:VCALENDAR