BEGIN:VCALENDAR
VERSION:2.0
PRODID:-// - ECPv6.15.20//NONSGML v1.0//EN
CALSCALE:GREGORIAN
METHOD:PUBLISH
X-ORIGINAL-URL:https://radfahrerclub.de
X-WR-CALDESC:Veranstaltungen für 
REFRESH-INTERVAL;VALUE=DURATION:PT1H
X-Robots-Tag:noindex
X-PUBLISHED-TTL:PT1H
BEGIN:VTIMEZONE
TZID:Europe/Berlin
BEGIN:DAYLIGHT
TZOFFSETFROM:+0100
TZOFFSETTO:+0200
TZNAME:CEST
DTSTART:20240331T010000
END:DAYLIGHT
BEGIN:STANDARD
TZOFFSETFROM:+0200
TZOFFSETTO:+0100
TZNAME:CET
DTSTART:20241027T010000
END:STANDARD
BEGIN:DAYLIGHT
TZOFFSETFROM:+0100
TZOFFSETTO:+0200
TZNAME:CEST
DTSTART:20250330T010000
END:DAYLIGHT
BEGIN:STANDARD
TZOFFSETFROM:+0200
TZOFFSETTO:+0100
TZNAME:CET
DTSTART:20251026T010000
END:STANDARD
BEGIN:DAYLIGHT
TZOFFSETFROM:+0100
TZOFFSETTO:+0200
TZNAME:CEST
DTSTART:20260329T010000
END:DAYLIGHT
BEGIN:STANDARD
TZOFFSETFROM:+0200
TZOFFSETTO:+0100
TZNAME:CET
DTSTART:20261025T010000
END:STANDARD
END:VTIMEZONE
BEGIN:VEVENT
DTSTART;TZID=Europe/Berlin:20250702T180000
DTEND;TZID=Europe/Berlin:20250702T180000
DTSTAMP:20260419T235626
CREATED:20250105T163425Z
LAST-MODIFIED:20250105T163425Z
UID:1043-1751479200-1751479200@radfahrerclub.de
SUMMARY:Rennradtour
DESCRIPTION:Auf den Rennradtouren des RCKL werden zwei Geschwindigkeitsgruppen – „Espresso und Cappuccino“ – angeboten. \nBei „Espresso“ wird eine Geschwindigkeit von 28 km/h (im Durchschnitt) und mehr gefahren. \nBei „Cappuccino“ wird eine Geschwindigkeit bis 24 km/h (im Durchschnitt) gefahren. \nDie Zuordnung erfolgt jeweils spontan am Heimatbrunnen. \nDie Streckenlänge beträgt ca. 50 km. \nJede Tour wird von einem erfahrenen Guide geleitet. \nSollte eine Tour ausfallen\, wird dies innerhalb der RCKL-Signal-Gruppe mitgeteilt. \nNach der Tour\, gegen 20:00 Uhr\, treffen sich die Gruppen mit Mitgliedern und Gästen zum jour fixe in einer Gaststätte in KR-Linn.
URL:https://radfahrerclub.de/event/rennradtour-36/
LOCATION:Heimatbrunnen KR-Linn\, Heimatbrunnen\, Krefeld-Linn\, NRW\, 47809\, Deutschland
CATEGORIES:Rennradtour
ORGANIZER;CN="Radfahrer-Club Krefeld-Linn 1897 e.V.":MAILTO:info@radfahrerclub.de
END:VEVENT
BEGIN:VEVENT
DTSTART;TZID=Europe/Berlin:20250702T180000
DTEND;TZID=Europe/Berlin:20250702T180000
DTSTAMP:20260419T235626
CREATED:20250105T180933Z
LAST-MODIFIED:20250105T180933Z
UID:1126-1751479200-1751479200@radfahrerclub.de
SUMMARY:Graveltour
DESCRIPTION:Auf den Graveltouren des RCKL werden am Niederrhein u.a. Feld- und Waldwege befahren. Das Tempo ist stets angepasst und liegt zwischen 18 km/h und 20 km/h. Die Dauer liegt zwischen 2 bis 2\,5 Stunden. Jede Tour wird von einem Guide geleitet. \nGäste und Mitglieder sind herzlich willkommen. \nFür die Touren sind Gravelbikes\, Mountainbikes und Cyclocrosser sehr gut geeignet. \nSollten die Witterungsverhältnisse eine Graveltour nicht zulassen\, wird diese kurzfristig über die RCKL-Signal-Gruppe abgesagt. \nNach der Tour\, gegen 20:00 Uhr\, treffen sich die Gruppen mit Mitgliedern und Gästen zum jour fixe in einer Gaststätte in KR-Linn.
URL:https://radfahrerclub.de/event/graveltour-34/
LOCATION:Heimatbrunnen KR-Linn\, Heimatbrunnen\, Krefeld-Linn\, NRW\, 47809\, Deutschland
CATEGORIES:Graveltouren
ORGANIZER;CN="Radfahrer-Club Krefeld-Linn 1897 e.V.":MAILTO:info@radfahrerclub.de
END:VEVENT
BEGIN:VEVENT
DTSTART;TZID=Europe/Berlin:20250706T080000
DTEND;TZID=Europe/Berlin:20250706T170000
DTSTAMP:20260419T235626
CREATED:20250105T171933Z
LAST-MODIFIED:20250105T171933Z
UID:1077-1751788800-1751821200@radfahrerclub.de
SUMMARY:Antico Velo - Das Fahrradevent auf Burg Linn
DESCRIPTION:
URL:https://radfahrerclub.de/event/antico-velo-das-fahrradevent-auf-burg-linn/
LOCATION:Burg Linn\, Burg Linn\, Krefeld\, NRW\, 47809\, Deutschland
CATEGORIES:Clubleben,Historische Fahrräder
ORGANIZER;CN="Radfahrer-Club Krefeld-Linn 1897 e.V.":MAILTO:info@radfahrerclub.de
END:VEVENT
BEGIN:VEVENT
DTSTART;TZID=Europe/Berlin:20250709T080000
DTEND;TZID=Europe/Berlin:20250709T080000
DTSTAMP:20260419T235626
CREATED:20250105T181035Z
LAST-MODIFIED:20250105T181035Z
UID:1128-1752048000-1752048000@radfahrerclub.de
SUMMARY:Graveltour
DESCRIPTION:Auf den Graveltouren des RCKL werden am Niederrhein u.a. Feld- und Waldwege befahren. Das Tempo ist stets angepasst und liegt zwischen 18 km/h und 20 km/h. Die Dauer liegt zwischen 2 bis 2\,5 Stunden. Jede Tour wird von einem Guide geleitet. \nGäste und Mitglieder sind herzlich willkommen. \nFür die Touren sind Gravelbikes\, Mountainbikes und Cyclocrosser sehr gut geeignet. \nSollten die Witterungsverhältnisse eine Graveltour nicht zulassen\, wird diese kurzfristig über die RCKL-Signal-Gruppe abgesagt. \nNach der Tour\, gegen 20:00 Uhr\, treffen sich die Gruppen mit Mitgliedern und Gästen zum jour fixe in einer Gaststätte in KR-Linn.
URL:https://radfahrerclub.de/event/graveltour-35/
LOCATION:Heimatbrunnen KR-Linn\, Heimatbrunnen\, Krefeld-Linn\, NRW\, 47809\, Deutschland
CATEGORIES:Graveltouren
ORGANIZER;CN="Radfahrer-Club Krefeld-Linn 1897 e.V.":MAILTO:info@radfahrerclub.de
END:VEVENT
BEGIN:VEVENT
DTSTART;TZID=Europe/Berlin:20250709T180000
DTEND;TZID=Europe/Berlin:20250709T180000
DTSTAMP:20260419T235626
CREATED:20250105T163541Z
LAST-MODIFIED:20250105T163541Z
UID:1045-1752084000-1752084000@radfahrerclub.de
SUMMARY:Rennradtour
DESCRIPTION:Auf den Rennradtouren des RCKL werden zwei Geschwindigkeitsgruppen – „Espresso und Cappuccino“ – angeboten. \nBei „Espresso“ wird eine Geschwindigkeit von 28 km/h (im Durchschnitt) und mehr gefahren. \nBei „Cappuccino“ wird eine Geschwindigkeit bis 24 km/h (im Durchschnitt) gefahren. \nDie Zuordnung erfolgt jeweils spontan am Heimatbrunnen. \nDie Streckenlänge beträgt ca. 50 km. \nJede Tour wird von einem erfahrenen Guide geleitet. \nSollte eine Tour ausfallen\, wird dies innerhalb der RCKL-Signal-Gruppe mitgeteilt. \nNach der Tour\, gegen 20:00 Uhr\, treffen sich die Gruppen mit Mitgliedern und Gästen zum jour fixe in einer Gaststätte in KR-Linn.
URL:https://radfahrerclub.de/event/rennradtour-37/
LOCATION:Heimatbrunnen KR-Linn\, Heimatbrunnen\, Krefeld-Linn\, NRW\, 47809\, Deutschland
CATEGORIES:Rennradtour
ORGANIZER;CN="Radfahrer-Club Krefeld-Linn 1897 e.V.":MAILTO:info@radfahrerclub.de
END:VEVENT
BEGIN:VEVENT
DTSTART;TZID=Europe/Berlin:20250716T180000
DTEND;TZID=Europe/Berlin:20250716T180000
DTSTAMP:20260419T235626
CREATED:20250105T163718Z
LAST-MODIFIED:20250105T163935Z
UID:1047-1752688800-1752688800@radfahrerclub.de
SUMMARY:Rennradtour
DESCRIPTION:Auf den Rennradtouren des RCKL werden zwei Geschwindigkeitsgruppen – „Espresso und Cappuccino“ – angeboten. \nBei „Espresso“ wird eine Geschwindigkeit von 28 km/h (im Durchschnitt) und mehr gefahren. \nBei „Cappuccino“ wird eine Geschwindigkeit bis 24 km/h (im Durchschnitt) gefahren. \nDie Zuordnung erfolgt jeweils spontan am Heimatbrunnen. \nDie Streckenlänge beträgt ca. 50 km. \nJede Tour wird von einem erfahrenen Guide geleitet. \nSollte eine Tour ausfallen\, wird dies innerhalb der RCKL-Signal-Gruppe mitgeteilt. \nNach der Tour\, gegen 20:00 Uhr\, treffen sich die Gruppen mit Mitgliedern und Gästen zum jour fixe in einer Gaststätte in KR-Linn.
URL:https://radfahrerclub.de/event/rennradtour-38/
LOCATION:Heimatbrunnen KR-Linn\, Heimatbrunnen\, Krefeld-Linn\, NRW\, 47809\, Deutschland
CATEGORIES:Rennradtour
ORGANIZER;CN="Radfahrer-Club Krefeld-Linn 1897 e.V.":MAILTO:info@radfahrerclub.de
END:VEVENT
BEGIN:VEVENT
DTSTART;TZID=Europe/Berlin:20250716T180000
DTEND;TZID=Europe/Berlin:20250716T180000
DTSTAMP:20260419T235626
CREATED:20250105T181129Z
LAST-MODIFIED:20250105T181129Z
UID:1130-1752688800-1752688800@radfahrerclub.de
SUMMARY:Graveltour
DESCRIPTION:Auf den Graveltouren des RCKL werden am Niederrhein u.a. Feld- und Waldwege befahren. Das Tempo ist stets angepasst und liegt zwischen 18 km/h und 20 km/h. Die Dauer liegt zwischen 2 bis 2\,5 Stunden. Jede Tour wird von einem Guide geleitet. \nGäste und Mitglieder sind herzlich willkommen. \nFür die Touren sind Gravelbikes\, Mountainbikes und Cyclocrosser sehr gut geeignet. \nSollten die Witterungsverhältnisse eine Graveltour nicht zulassen\, wird diese kurzfristig über die RCKL-Signal-Gruppe abgesagt. \nNach der Tour\, gegen 20:00 Uhr\, treffen sich die Gruppen mit Mitgliedern und Gästen zum jour fixe in einer Gaststätte in KR-Linn.
URL:https://radfahrerclub.de/event/graveltour-36/
LOCATION:Heimatbrunnen KR-Linn\, Heimatbrunnen\, Krefeld-Linn\, NRW\, 47809\, Deutschland
CATEGORIES:Graveltouren
ORGANIZER;CN="Radfahrer-Club Krefeld-Linn 1897 e.V.":MAILTO:info@radfahrerclub.de
END:VEVENT
BEGIN:VEVENT
DTSTART;TZID=Europe/Berlin:20250723T180000
DTEND;TZID=Europe/Berlin:20250723T180000
DTSTAMP:20260419T235626
CREATED:20250105T164040Z
LAST-MODIFIED:20250105T164040Z
UID:1049-1753293600-1753293600@radfahrerclub.de
SUMMARY:Rennradtour
DESCRIPTION:Auf den Rennradtouren des RCKL werden zwei Geschwindigkeitsgruppen – „Espresso und Cappuccino“ – angeboten. \nBei „Espresso“ wird eine Geschwindigkeit von 28 km/h (im Durchschnitt) und mehr gefahren. \nBei „Cappuccino“ wird eine Geschwindigkeit bis 24 km/h (im Durchschnitt) gefahren. \nDie Zuordnung erfolgt jeweils spontan am Heimatbrunnen. \nDie Streckenlänge beträgt ca. 50 km. \nJede Tour wird von einem erfahrenen Guide geleitet. \nSollte eine Tour ausfallen\, wird dies innerhalb der RCKL-Signal-Gruppe mitgeteilt. \nNach der Tour\, gegen 20:00 Uhr\, treffen sich die Gruppen mit Mitgliedern und Gästen zum jour fixe in einer Gaststätte in KR-Linn.
URL:https://radfahrerclub.de/event/rennradtour-39/
LOCATION:Heimatbrunnen KR-Linn\, Heimatbrunnen\, Krefeld-Linn\, NRW\, 47809\, Deutschland
CATEGORIES:Rennradtour
ORGANIZER;CN="Radfahrer-Club Krefeld-Linn 1897 e.V.":MAILTO:info@radfahrerclub.de
END:VEVENT
BEGIN:VEVENT
DTSTART;TZID=Europe/Berlin:20250723T180000
DTEND;TZID=Europe/Berlin:20250723T180000
DTSTAMP:20260419T235626
CREATED:20250105T181226Z
LAST-MODIFIED:20250105T181226Z
UID:1132-1753293600-1753293600@radfahrerclub.de
SUMMARY:Graveltour
DESCRIPTION:Auf den Graveltouren des RCKL werden am Niederrhein u.a. Feld- und Waldwege befahren. Das Tempo ist stets angepasst und liegt zwischen 18 km/h und 20 km/h. Die Dauer liegt zwischen 2 bis 2\,5 Stunden. Jede Tour wird von einem Guide geleitet. \nGäste und Mitglieder sind herzlich willkommen. \nFür die Touren sind Gravelbikes\, Mountainbikes und Cyclocrosser sehr gut geeignet. \nSollten die Witterungsverhältnisse eine Graveltour nicht zulassen\, wird diese kurzfristig über die RCKL-Signal-Gruppe abgesagt. \nNach der Tour\, gegen 20:00 Uhr\, treffen sich die Gruppen mit Mitgliedern und Gästen zum jour fixe in einer Gaststätte in KR-Linn.
URL:https://radfahrerclub.de/event/graveltour-37/
LOCATION:Heimatbrunnen KR-Linn\, Heimatbrunnen\, Krefeld-Linn\, NRW\, 47809\, Deutschland
CATEGORIES:Graveltouren
ORGANIZER;CN="Radfahrer-Club Krefeld-Linn 1897 e.V.":MAILTO:info@radfahrerclub.de
END:VEVENT
BEGIN:VEVENT
DTSTART;TZID=Europe/Berlin:20250730T180000
DTEND;TZID=Europe/Berlin:20250730T180000
DTSTAMP:20260419T235626
CREATED:20250105T164212Z
LAST-MODIFIED:20250105T164212Z
UID:1051-1753898400-1753898400@radfahrerclub.de
SUMMARY:Rennradtour
DESCRIPTION:Auf den Rennradtouren des RCKL werden zwei Geschwindigkeitsgruppen – „Espresso und Cappuccino“ – angeboten. \nBei „Espresso“ wird eine Geschwindigkeit von 28 km/h (im Durchschnitt) und mehr gefahren. \nBei „Cappuccino“ wird eine Geschwindigkeit bis 24 km/h (im Durchschnitt) gefahren. \nDie Zuordnung erfolgt jeweils spontan am Heimatbrunnen. \nDie Streckenlänge beträgt ca. 50 km. \nJede Tour wird von einem erfahrenen Guide geleitet. \nSollte eine Tour ausfallen\, wird dies innerhalb der RCKL-Signal-Gruppe mitgeteilt. \nNach der Tour\, gegen 20:00 Uhr\, treffen sich die Gruppen mit Mitgliedern und Gästen zum jour fixe in einer Gaststätte in KR-Linn.
URL:https://radfahrerclub.de/event/rennradtour-40/
LOCATION:Heimatbrunnen KR-Linn\, Heimatbrunnen\, Krefeld-Linn\, NRW\, 47809\, Deutschland
CATEGORIES:Rennradtour
ORGANIZER;CN="Radfahrer-Club Krefeld-Linn 1897 e.V.":MAILTO:info@radfahrerclub.de
END:VEVENT
BEGIN:VEVENT
DTSTART;TZID=Europe/Berlin:20250730T180000
DTEND;TZID=Europe/Berlin:20250730T180000
DTSTAMP:20260419T235626
CREATED:20250105T181319Z
LAST-MODIFIED:20250105T181319Z
UID:1134-1753898400-1753898400@radfahrerclub.de
SUMMARY:Graveltour
DESCRIPTION:Auf den Graveltouren des RCKL werden am Niederrhein u.a. Feld- und Waldwege befahren. Das Tempo ist stets angepasst und liegt zwischen 18 km/h und 20 km/h. Die Dauer liegt zwischen 2 bis 2\,5 Stunden. Jede Tour wird von einem Guide geleitet. \nGäste und Mitglieder sind herzlich willkommen. \nFür die Touren sind Gravelbikes\, Mountainbikes und Cyclocrosser sehr gut geeignet. \nSollten die Witterungsverhältnisse eine Graveltour nicht zulassen\, wird diese kurzfristig über die RCKL-Signal-Gruppe abgesagt. \nNach der Tour\, gegen 20:00 Uhr\, treffen sich die Gruppen mit Mitgliedern und Gästen zum jour fixe in einer Gaststätte in KR-Linn.
URL:https://radfahrerclub.de/event/graveltour-38/
LOCATION:Heimatbrunnen KR-Linn\, Heimatbrunnen\, Krefeld-Linn\, NRW\, 47809\, Deutschland
CATEGORIES:Graveltouren
ORGANIZER;CN="Radfahrer-Club Krefeld-Linn 1897 e.V.":MAILTO:info@radfahrerclub.de
END:VEVENT
END:VCALENDAR