BEGIN:VCALENDAR
VERSION:2.0
PRODID:-// - ECPv6.15.20//NONSGML v1.0//EN
CALSCALE:GREGORIAN
METHOD:PUBLISH
X-ORIGINAL-URL:https://radfahrerclub.de
X-WR-CALDESC:Veranstaltungen für 
REFRESH-INTERVAL;VALUE=DURATION:PT1H
X-Robots-Tag:noindex
X-PUBLISHED-TTL:PT1H
BEGIN:VTIMEZONE
TZID:Europe/Berlin
BEGIN:DAYLIGHT
TZOFFSETFROM:+0100
TZOFFSETTO:+0200
TZNAME:CEST
DTSTART:20240331T010000
END:DAYLIGHT
BEGIN:STANDARD
TZOFFSETFROM:+0200
TZOFFSETTO:+0100
TZNAME:CET
DTSTART:20241027T010000
END:STANDARD
BEGIN:DAYLIGHT
TZOFFSETFROM:+0100
TZOFFSETTO:+0200
TZNAME:CEST
DTSTART:20250330T010000
END:DAYLIGHT
BEGIN:STANDARD
TZOFFSETFROM:+0200
TZOFFSETTO:+0100
TZNAME:CET
DTSTART:20251026T010000
END:STANDARD
BEGIN:DAYLIGHT
TZOFFSETFROM:+0100
TZOFFSETTO:+0200
TZNAME:CEST
DTSTART:20260329T010000
END:DAYLIGHT
BEGIN:STANDARD
TZOFFSETFROM:+0200
TZOFFSETTO:+0100
TZNAME:CET
DTSTART:20261025T010000
END:STANDARD
END:VTIMEZONE
BEGIN:VEVENT
DTSTART;TZID=Europe/Berlin:20250604T180000
DTEND;TZID=Europe/Berlin:20250604T180000
DTSTAMP:20260420T013546
CREATED:20250105T162744Z
LAST-MODIFIED:20250105T162744Z
UID:1035-1749060000-1749060000@radfahrerclub.de
SUMMARY:Rennradtour
DESCRIPTION:Auf den Rennradtouren des RCKL werden zwei Geschwindigkeitsgruppen – „Espresso und Cappuccino“ – angeboten. \nBei „Espresso“ wird eine Geschwindigkeit von 28 km/h (im Durchschnitt) und mehr gefahren. \nBei „Cappuccino“ wird eine Geschwindigkeit bis 24 km/h (im Durchschnitt) gefahren. \nDie Zuordnung erfolgt jeweils spontan am Heimatbrunnen. \nDie Streckenlänge beträgt ca. 50 km. \nJede Tour wird von einem erfahrenen Guide geleitet. \nSollte eine Tour ausfallen\, wird dies innerhalb der RCKL-Signal-Gruppe mitgeteilt. \nNach der Tour\, gegen 20:00 Uhr\, treffen sich die Gruppen mit Mitgliedern und Gästen zum jour fixe in einer Gaststätte in KR-Linn.
URL:https://radfahrerclub.de/event/rennradtour-32/
LOCATION:Heimatbrunnen KR-Linn\, Heimatbrunnen\, Krefeld-Linn\, NRW\, 47809\, Deutschland
CATEGORIES:Rennradtour
ORGANIZER;CN="Radfahrer-Club Krefeld-Linn 1897 e.V.":MAILTO:info@radfahrerclub.de
END:VEVENT
BEGIN:VEVENT
DTSTART;TZID=Europe/Berlin:20250604T180000
DTEND;TZID=Europe/Berlin:20250604T180000
DTSTAMP:20260420T013547
CREATED:20250105T180143Z
LAST-MODIFIED:20250105T180143Z
UID:1118-1749060000-1749060000@radfahrerclub.de
SUMMARY:Graveltour
DESCRIPTION:Auf den Graveltouren des RCKL werden am Niederrhein u.a. Feld- und Waldwege befahren. Das Tempo ist stets angepasst und liegt zwischen 18 km/h und 20 km/h. Die Dauer liegt zwischen 2 bis 2\,5 Stunden. Jede Tour wird von einem Guide geleitet. \nGäste und Mitglieder sind herzlich willkommen. \nFür die Touren sind Gravelbikes\, Mountainbikes und Cyclocrosser sehr gut geeignet. \nSollten die Witterungsverhältnisse eine Graveltour nicht zulassen\, wird diese kurzfristig über die RCKL-Signal-Gruppe abgesagt. \nNach der Tour\, gegen 20:00 Uhr\, treffen sich die Gruppen mit Mitgliedern und Gästen zum jour fixe in einer Gaststätte in KR-Linn.
URL:https://radfahrerclub.de/event/graveltour-30/
LOCATION:Heimatbrunnen KR-Linn\, Heimatbrunnen\, Krefeld-Linn\, NRW\, 47809\, Deutschland
CATEGORIES:Graveltouren
ORGANIZER;CN="Radfahrer-Club Krefeld-Linn 1897 e.V.":MAILTO:info@radfahrerclub.de
END:VEVENT
BEGIN:VEVENT
DTSTART;TZID=Europe/Berlin:20250611T180000
DTEND;TZID=Europe/Berlin:20250611T180000
DTSTAMP:20260420T013547
CREATED:20250105T162843Z
LAST-MODIFIED:20250105T162843Z
UID:1037-1749664800-1749664800@radfahrerclub.de
SUMMARY:Rennradtour
DESCRIPTION:Auf den Rennradtouren des RCKL werden zwei Geschwindigkeitsgruppen – „Espresso und Cappuccino“ – angeboten. \nBei „Espresso“ wird eine Geschwindigkeit von 28 km/h (im Durchschnitt) und mehr gefahren. \nBei „Cappuccino“ wird eine Geschwindigkeit bis 24 km/h (im Durchschnitt) gefahren. \nDie Zuordnung erfolgt jeweils spontan am Heimatbrunnen. \nDie Streckenlänge beträgt ca. 50 km. \nJede Tour wird von einem erfahrenen Guide geleitet. \nSollte eine Tour ausfallen\, wird dies innerhalb der RCKL-Signal-Gruppe mitgeteilt. \nNach der Tour\, gegen 20:00 Uhr\, treffen sich die Gruppen mit Mitgliedern und Gästen zum jour fixe in einer Gaststätte in KR-Linn.
URL:https://radfahrerclub.de/event/rennradtour-33/
LOCATION:Heimatbrunnen KR-Linn\, Heimatbrunnen\, Krefeld-Linn\, NRW\, 47809\, Deutschland
CATEGORIES:Rennradtour
ORGANIZER;CN="Radfahrer-Club Krefeld-Linn 1897 e.V.":MAILTO:info@radfahrerclub.de
END:VEVENT
BEGIN:VEVENT
DTSTART;TZID=Europe/Berlin:20250611T180000
DTEND;TZID=Europe/Berlin:20250611T180000
DTSTAMP:20260420T013547
CREATED:20250105T180243Z
LAST-MODIFIED:20250105T180243Z
UID:1120-1749664800-1749664800@radfahrerclub.de
SUMMARY:Graveltour
DESCRIPTION:Auf den Graveltouren des RCKL werden am Niederrhein u.a. Feld- und Waldwege befahren. Das Tempo ist stets angepasst und liegt zwischen 18 km/h und 20 km/h. Die Dauer liegt zwischen 2 bis 2\,5 Stunden. Jede Tour wird von einem Guide geleitet. \nGäste und Mitglieder sind herzlich willkommen. \nFür die Touren sind Gravelbikes\, Mountainbikes und Cyclocrosser sehr gut geeignet. \nSollten die Witterungsverhältnisse eine Graveltour nicht zulassen\, wird diese kurzfristig über die RCKL-Signal-Gruppe abgesagt. \nNach der Tour\, gegen 20:00 Uhr\, treffen sich die Gruppen mit Mitgliedern und Gästen zum jour fixe in einer Gaststätte in KR-Linn.
URL:https://radfahrerclub.de/event/graveltour-31/
LOCATION:Heimatbrunnen KR-Linn\, Heimatbrunnen\, Krefeld-Linn\, NRW\, 47809\, Deutschland
CATEGORIES:Graveltouren
ORGANIZER;CN="Radfahrer-Club Krefeld-Linn 1897 e.V.":MAILTO:info@radfahrerclub.de
END:VEVENT
BEGIN:VEVENT
DTSTART;TZID=Europe/Berlin:20250615T100000
DTEND;TZID=Europe/Berlin:20250615T170000
DTSTAMP:20260420T013547
CREATED:20250105T171530Z
LAST-MODIFIED:20250105T173541Z
UID:1075-1749981600-1750006800@radfahrerclub.de
SUMMARY:2. KulTOUR - Street-Art-Tour durch Krefeld
DESCRIPTION:Auf dieser Tour fährt der RCKL durch Krefeld\, um die Krefelder Street-Art kennenzulernen. \nTourenrad\, Pedellen\, E-Bike\, Gravelbike\, Rennrad und Klapprad sind hierfür bestens geeignet. \nMitglieder und Gäste sind herzlich willkommen. \nAnmeldung erforderlich! \nEinzelheiten werden noch bekannt gegeben.
URL:https://radfahrerclub.de/event/2-kultour-street-art-tour-durch-krefeld/
LOCATION:Heimatbrunnen KR-Linn\, Heimatbrunnen\, Krefeld-Linn\, NRW\, 47809\, Deutschland
CATEGORIES:Clubleben,Graveltouren,Radwanderung,Rennradtour
ORGANIZER;CN="Radfahrer-Club Krefeld-Linn 1897 e.V.":MAILTO:info@radfahrerclub.de
END:VEVENT
BEGIN:VEVENT
DTSTART;TZID=Europe/Berlin:20250618T180000
DTEND;TZID=Europe/Berlin:20250618T180000
DTSTAMP:20260420T013547
CREATED:20250105T163002Z
LAST-MODIFIED:20250105T163002Z
UID:1039-1750269600-1750269600@radfahrerclub.de
SUMMARY:Rennradtour
DESCRIPTION:Auf den Rennradtouren des RCKL werden zwei Geschwindigkeitsgruppen – „Espresso und Cappuccino“ – angeboten. \nBei „Espresso“ wird eine Geschwindigkeit von 28 km/h (im Durchschnitt) und mehr gefahren. \nBei „Cappuccino“ wird eine Geschwindigkeit bis 24 km/h (im Durchschnitt) gefahren. \nDie Zuordnung erfolgt jeweils spontan am Heimatbrunnen. \nDie Streckenlänge beträgt ca. 50 km. \nJede Tour wird von einem erfahrenen Guide geleitet. \nSollte eine Tour ausfallen\, wird dies innerhalb der RCKL-Signal-Gruppe mitgeteilt. \nNach der Tour\, gegen 20:00 Uhr\, treffen sich die Gruppen mit Mitgliedern und Gästen zum jour fixe in einer Gaststätte in KR-Linn.
URL:https://radfahrerclub.de/event/rennradtour-34/
LOCATION:Heimatbrunnen KR-Linn\, Heimatbrunnen\, Krefeld-Linn\, NRW\, 47809\, Deutschland
CATEGORIES:Rennradtour
ORGANIZER;CN="Radfahrer-Club Krefeld-Linn 1897 e.V.":MAILTO:info@radfahrerclub.de
END:VEVENT
BEGIN:VEVENT
DTSTART;TZID=Europe/Berlin:20250618T180000
DTEND;TZID=Europe/Berlin:20250618T180000
DTSTAMP:20260420T013547
CREATED:20250105T180339Z
LAST-MODIFIED:20250105T180339Z
UID:1122-1750269600-1750269600@radfahrerclub.de
SUMMARY:Graveltour
DESCRIPTION:Auf den Graveltouren des RCKL werden am Niederrhein u.a. Feld- und Waldwege befahren. Das Tempo ist stets angepasst und liegt zwischen 18 km/h und 20 km/h. Die Dauer liegt zwischen 2 bis 2\,5 Stunden. Jede Tour wird von einem Guide geleitet. \nGäste und Mitglieder sind herzlich willkommen. \nFür die Touren sind Gravelbikes\, Mountainbikes und Cyclocrosser sehr gut geeignet. \nSollten die Witterungsverhältnisse eine Graveltour nicht zulassen\, wird diese kurzfristig über die RCKL-Signal-Gruppe abgesagt. \nNach der Tour\, gegen 20:00 Uhr\, treffen sich die Gruppen mit Mitgliedern und Gästen zum jour fixe in einer Gaststätte in KR-Linn.
URL:https://radfahrerclub.de/event/graveltour-32/
LOCATION:Heimatbrunnen KR-Linn\, Heimatbrunnen\, Krefeld-Linn\, NRW\, 47809\, Deutschland
CATEGORIES:Graveltouren
ORGANIZER;CN="Radfahrer-Club Krefeld-Linn 1897 e.V.":MAILTO:info@radfahrerclub.de
END:VEVENT
BEGIN:VEVENT
DTSTART;TZID=Europe/Berlin:20250619T103000
DTEND;TZID=Europe/Berlin:20250619T103000
DTSTAMP:20260420T013547
CREATED:20240806T121751Z
LAST-MODIFIED:20240806T121751Z
UID:798-1750329000-1750329000@radfahrerclub.de
SUMMARY:Radwanderung
DESCRIPTION:Auf den stets geleiteten und legendären Radwanderungen des RCKL lernst Du den Niederrhein von seiner schönsten Seite kennen. Unsere Touren sind u.a. aus dem historischen Fahrtenbuch des RCKL entnommen. Auf der Donnerstags-Tour wird eingekehrt. \nGäste und Mitglieder sind herzlich willkommen! \nOb eBike\, Tourenrad oder historisches Rad\, alle Fahrradtypen sind zulässig. \nUm Anmeldung wird gebeten unter Tel. 02151/398739 oder info@radfahrerclub.de \nTerminänderungen sind ausdrücklich vorbehalten. \nBei Regen\, Schnee oder Glatteis fällt die Radwanderung aus. \n 
URL:https://radfahrerclub.de/event/radwanderung-48/
LOCATION:Heimatbrunnen KR-Linn\, Heimatbrunnen\, Krefeld-Linn\, NRW\, 47809\, Deutschland
CATEGORIES:Radwanderung
ORGANIZER;CN="Radfahrer-Club Krefeld-Linn 1897 e.V.":MAILTO:info@radfahrerclub.de
END:VEVENT
BEGIN:VEVENT
DTSTART;TZID=Europe/Berlin:20250625T180000
DTEND;TZID=Europe/Berlin:20250625T180000
DTSTAMP:20260420T013547
CREATED:20250105T163146Z
LAST-MODIFIED:20250105T163146Z
UID:1041-1750874400-1750874400@radfahrerclub.de
SUMMARY:Rennradtour
DESCRIPTION:Auf den Rennradtouren des RCKL werden zwei Geschwindigkeitsgruppen – „Espresso und Cappuccino“ – angeboten. \nBei „Espresso“ wird eine Geschwindigkeit von 28 km/h (im Durchschnitt) und mehr gefahren. \nBei „Cappuccino“ wird eine Geschwindigkeit bis 24 km/h (im Durchschnitt) gefahren. \nDie Zuordnung erfolgt jeweils spontan am Heimatbrunnen. \nDie Streckenlänge beträgt ca. 50 km. \nJede Tour wird von einem erfahrenen Guide geleitet. \nSollte eine Tour ausfallen\, wird dies innerhalb der RCKL-Signal-Gruppe mitgeteilt. \nNach der Tour\, gegen 20:00 Uhr\, treffen sich die Gruppen mit Mitgliedern und Gästen zum jour fixe in einer Gaststätte in KR-Linn.
URL:https://radfahrerclub.de/event/rennradtour-35/
LOCATION:Heimatbrunnen KR-Linn\, Heimatbrunnen\, Krefeld-Linn\, NRW\, 47809\, Deutschland
CATEGORIES:Rennradtour
ORGANIZER;CN="Radfahrer-Club Krefeld-Linn 1897 e.V.":MAILTO:info@radfahrerclub.de
END:VEVENT
BEGIN:VEVENT
DTSTART;TZID=Europe/Berlin:20250625T180000
DTEND;TZID=Europe/Berlin:20250625T180000
DTSTAMP:20260420T013547
CREATED:20250105T180445Z
LAST-MODIFIED:20250105T180445Z
UID:1124-1750874400-1750874400@radfahrerclub.de
SUMMARY:Graveltour
DESCRIPTION:Auf den Graveltouren des RCKL werden am Niederrhein u.a. Feld- und Waldwege befahren. Das Tempo ist stets angepasst und liegt zwischen 18 km/h und 20 km/h. Die Dauer liegt zwischen 2 bis 2\,5 Stunden. Jede Tour wird von einem Guide geleitet. \nGäste und Mitglieder sind herzlich willkommen. \nFür die Touren sind Gravelbikes\, Mountainbikes und Cyclocrosser sehr gut geeignet. \nSollten die Witterungsverhältnisse eine Graveltour nicht zulassen\, wird diese kurzfristig über die RCKL-Signal-Gruppe abgesagt. \nNach der Tour\, gegen 20:00 Uhr\, treffen sich die Gruppen mit Mitgliedern und Gästen zum jour fixe in einer Gaststätte in KR-Linn.
URL:https://radfahrerclub.de/event/graveltour-33/
LOCATION:Heimatbrunnen KR-Linn\, Heimatbrunnen\, Krefeld-Linn\, NRW\, 47809\, Deutschland
CATEGORIES:Graveltouren
ORGANIZER;CN="Radfahrer-Club Krefeld-Linn 1897 e.V.":MAILTO:info@radfahrerclub.de
END:VEVENT
END:VCALENDAR