BEGIN:VCALENDAR
VERSION:2.0
PRODID:-// - ECPv6.15.20//NONSGML v1.0//EN
CALSCALE:GREGORIAN
METHOD:PUBLISH
X-ORIGINAL-URL:https://radfahrerclub.de
X-WR-CALDESC:Veranstaltungen für 
REFRESH-INTERVAL;VALUE=DURATION:PT1H
X-Robots-Tag:noindex
X-PUBLISHED-TTL:PT1H
BEGIN:VTIMEZONE
TZID:Europe/Berlin
BEGIN:DAYLIGHT
TZOFFSETFROM:+0100
TZOFFSETTO:+0200
TZNAME:CEST
DTSTART:20240331T010000
END:DAYLIGHT
BEGIN:STANDARD
TZOFFSETFROM:+0200
TZOFFSETTO:+0100
TZNAME:CET
DTSTART:20241027T010000
END:STANDARD
BEGIN:DAYLIGHT
TZOFFSETFROM:+0100
TZOFFSETTO:+0200
TZNAME:CEST
DTSTART:20250330T010000
END:DAYLIGHT
BEGIN:STANDARD
TZOFFSETFROM:+0200
TZOFFSETTO:+0100
TZNAME:CET
DTSTART:20251026T010000
END:STANDARD
BEGIN:DAYLIGHT
TZOFFSETFROM:+0100
TZOFFSETTO:+0200
TZNAME:CEST
DTSTART:20260329T010000
END:DAYLIGHT
BEGIN:STANDARD
TZOFFSETFROM:+0200
TZOFFSETTO:+0100
TZNAME:CET
DTSTART:20261025T010000
END:STANDARD
END:VTIMEZONE
BEGIN:VEVENT
DTSTART;TZID=Europe/Berlin:20250507T180000
DTEND;TZID=Europe/Berlin:20250507T180000
DTSTAMP:20260420T143652
CREATED:20250105T162223Z
LAST-MODIFIED:20250105T162223Z
UID:1027-1746640800-1746640800@radfahrerclub.de
SUMMARY:Rennradtour
DESCRIPTION:Auf den Rennradtouren des RCKL werden zwei Geschwindigkeitsgruppen – „Espresso und Cappuccino“ – angeboten. \nBei „Espresso“ wird eine Geschwindigkeit von 28 km/h (im Durchschnitt) und mehr gefahren. \nBei „Cappuccino“ wird eine Geschwindigkeit bis 24 km/h (im Durchschnitt) gefahren. \nDie Zuordnung erfolgt jeweils spontan am Heimatbrunnen. \nDie Streckenlänge beträgt ca. 50 km. \nJede Tour wird von einem erfahrenen Guide geleitet. \nSollte eine Tour ausfallen\, wird dies innerhalb der RCKL-Signal-Gruppe mitgeteilt. \nNach der Tour\, gegen 20:00 Uhr\, treffen sich die Gruppen mit Mitgliedern und Gästen zum jour fixe in einer Gaststätte in KR-Linn.
URL:https://radfahrerclub.de/event/rennradtour-28/
LOCATION:Heimatbrunnen KR-Linn\, Heimatbrunnen\, Krefeld-Linn\, NRW\, 47809\, Deutschland
CATEGORIES:Rennradtour
ORGANIZER;CN="Radfahrer-Club Krefeld-Linn 1897 e.V.":MAILTO:info@radfahrerclub.de
END:VEVENT
BEGIN:VEVENT
DTSTART;TZID=Europe/Berlin:20250507T180000
DTEND;TZID=Europe/Berlin:20250507T180000
DTSTAMP:20260420T143652
CREATED:20250105T174951Z
LAST-MODIFIED:20250105T175804Z
UID:1100-1746640800-1746640800@radfahrerclub.de
SUMMARY:Graveltour
DESCRIPTION:Auf den Graveltouren des RCKL werden am Niederrhein u.a. Feld- und Waldwege befahren. Das Tempo ist stets angepasst und liegt zwischen 18 km/h und 20 km/h. Die Dauer liegt zwischen 2 bis 2\,5 Stunden. Jede Tour wird von einem Guide geleitet. \nGäste und Mitglieder sind herzlich willkommen. \nFür die Touren sind Gravelbikes\, Mountainbikes und Cyclocrosser sehr gut geeignet. \nSollten die Witterungsverhältnisse eine Graveltour nicht zulassen\, wird diese kurzfristig über die RCKL-Signal-Gruppe abgesagt. \nNach der Tour\, gegen 20:00 Uhr\, treffen sich die Gruppen mit Mitgliedern und Gästen zum jour fixe in einer Gaststätte in KR-Linn. \n 
URL:https://radfahrerclub.de/event/graveltout/
LOCATION:Heimatbrunnen KR-Linn\, Heimatbrunnen\, Krefeld-Linn\, NRW\, 47809\, Deutschland
CATEGORIES:Graveltouren
ORGANIZER;CN="Radfahrer-Club Krefeld-Linn 1897 e.V.":MAILTO:info@radfahrerclub.de
END:VEVENT
BEGIN:VEVENT
DTSTART;TZID=Europe/Berlin:20250508T103000
DTEND;TZID=Europe/Berlin:20250508T103000
DTSTAMP:20260420T143652
CREATED:20240806T121230Z
LAST-MODIFIED:20240806T121230Z
UID:792-1746700200-1746700200@radfahrerclub.de
SUMMARY:Radwanderung
DESCRIPTION:Auf den stets geleiteten und legendären Radwanderungen des RCKL lernst Du den Niederrhein von seiner schönsten Seite kennen. Unsere Touren sind u.a. aus dem historischen Fahrtenbuch des RCKL entnommen. Auf der Donnerstags-Tour wird eingekehrt. \nGäste und Mitglieder sind herzlich willkommen! \nOb eBike\, Tourenrad oder historisches Rad\, alle Fahrradtypen sind zulässig. \nUm Anmeldung wird gebeten unter Tel. 02151/398739 oder info@radfahrerclub.de \nTerminänderungen sind ausdrücklich vorbehalten. \nBei Regen\, Schnee oder Glatteis fällt die Radwanderung aus. \n 
URL:https://radfahrerclub.de/event/radwanderung-45/
LOCATION:Heimatbrunnen KR-Linn\, Heimatbrunnen\, Krefeld-Linn\, NRW\, 47809\, Deutschland
CATEGORIES:Radwanderung
ORGANIZER;CN="Radfahrer-Club Krefeld-Linn 1897 e.V.":MAILTO:info@radfahrerclub.de
END:VEVENT
BEGIN:VEVENT
DTSTART;TZID=Europe/Berlin:20250514T180000
DTEND;TZID=Europe/Berlin:20250514T180000
DTSTAMP:20260420T143652
CREATED:20250105T162327Z
LAST-MODIFIED:20250105T162327Z
UID:1029-1747245600-1747245600@radfahrerclub.de
SUMMARY:Rennradtour
DESCRIPTION:Auf den Rennradtouren des RCKL werden zwei Geschwindigkeitsgruppen – „Espresso und Cappuccino“ – angeboten. \nBei „Espresso“ wird eine Geschwindigkeit von 28 km/h (im Durchschnitt) und mehr gefahren. \nBei „Cappuccino“ wird eine Geschwindigkeit bis 24 km/h (im Durchschnitt) gefahren. \nDie Zuordnung erfolgt jeweils spontan am Heimatbrunnen. \nDie Streckenlänge beträgt ca. 50 km. \nJede Tour wird von einem erfahrenen Guide geleitet. \nSollte eine Tour ausfallen\, wird dies innerhalb der RCKL-Signal-Gruppe mitgeteilt. \nNach der Tour\, gegen 20:00 Uhr\, treffen sich die Gruppen mit Mitgliedern und Gästen zum jour fixe in einer Gaststätte in KR-Linn.
URL:https://radfahrerclub.de/event/rennradtour-29/
LOCATION:Heimatbrunnen KR-Linn\, Heimatbrunnen\, Krefeld-Linn\, NRW\, 47809\, Deutschland
CATEGORIES:Rennradtour
ORGANIZER;CN="Radfahrer-Club Krefeld-Linn 1897 e.V.":MAILTO:info@radfahrerclub.de
END:VEVENT
BEGIN:VEVENT
DTSTART;TZID=Europe/Berlin:20250514T180000
DTEND;TZID=Europe/Berlin:20250514T180000
DTSTAMP:20260420T143652
CREATED:20250105T175055Z
LAST-MODIFIED:20250105T175728Z
UID:1103-1747245600-1747245600@radfahrerclub.de
SUMMARY:Graveltour
DESCRIPTION:Auf den Graveltouren des RCKL werden am Niederrhein u.a. Feld- und Waldwege befahren. Das Tempo ist stets angepasst und liegt zwischen 18 km/h und 20 km/h. Die Dauer liegt zwischen 2 bis 2\,5 Stunden. Jede Tour wird von einem Guide geleitet. \nGäste und Mitglieder sind herzlich willkommen. \nFür die Touren sind Gravelbikes\, Mountainbikes und Cyclocrosser sehr gut geeignet. \nSollten die Witterungsverhältnisse eine Graveltour nicht zulassen\, wird diese kurzfristig über die RCKL-Signal-Gruppe abgesagt. \nNach der Tour\, gegen 20:00 Uhr\, treffen sich die Gruppen mit Mitgliedern und Gästen zum jour fixe in einer Gaststätte in KR-Linn. \n 
URL:https://radfahrerclub.de/event/graveltour-27/
LOCATION:Heimatbrunnen KR-Linn\, Heimatbrunnen\, Krefeld-Linn\, NRW\, 47809\, Deutschland
CATEGORIES:Graveltouren
ORGANIZER;CN="Radfahrer-Club Krefeld-Linn 1897 e.V.":MAILTO:info@radfahrerclub.de
END:VEVENT
BEGIN:VEVENT
DTSTART;TZID=Europe/Berlin:20250518T100000
DTEND;TZID=Europe/Berlin:20250518T100000
DTSTAMP:20260420T143652
CREATED:20240806T121425Z
LAST-MODIFIED:20240806T121425Z
UID:794-1747562400-1747562400@radfahrerclub.de
SUMMARY:Radwanderung
DESCRIPTION:Auf den stets geleiteten und legendären Radwanderungen des RCKL lernst Du den Niederrhein von seiner schönsten Seite kennen. Unsere Touren sind u.a. aus dem historischen Fahrtenbuch des RCKL entnommen. Auf der Donnerstags-Tour wird eingekehrt. \nGäste und Mitglieder sind herzlich willkommen! \nOb eBike\, Tourenrad oder historisches Rad\, alle Fahrradtypen sind zulässig. \nUm Anmeldung wird gebeten unter Tel. 02151/398739 oder info@radfahrerclub.de \nTerminänderungen sind ausdrücklich vorbehalten. \nBei Regen\, Schnee oder Glatteis fällt die Radwanderung aus. \n 
URL:https://radfahrerclub.de/event/radwanderung-46/
LOCATION:Heimatbrunnen KR-Linn\, Heimatbrunnen\, Krefeld-Linn\, NRW\, 47809\, Deutschland
CATEGORIES:Radwanderung
ORGANIZER;CN="Radfahrer-Club Krefeld-Linn 1897 e.V.":MAILTO:info@radfahrerclub.de
END:VEVENT
BEGIN:VEVENT
DTSTART;TZID=Europe/Berlin:20250521T180000
DTEND;TZID=Europe/Berlin:20250521T180000
DTSTAMP:20260420T143652
CREATED:20250105T162426Z
LAST-MODIFIED:20250105T162426Z
UID:1031-1747850400-1747850400@radfahrerclub.de
SUMMARY:Rennradtour
DESCRIPTION:Auf den Rennradtouren des RCKL werden zwei Geschwindigkeitsgruppen – „Espresso und Cappuccino“ – angeboten. \nBei „Espresso“ wird eine Geschwindigkeit von 28 km/h (im Durchschnitt) und mehr gefahren. \nBei „Cappuccino“ wird eine Geschwindigkeit bis 24 km/h (im Durchschnitt) gefahren. \nDie Zuordnung erfolgt jeweils spontan am Heimatbrunnen. \nDie Streckenlänge beträgt ca. 50 km. \nJede Tour wird von einem erfahrenen Guide geleitet. \nSollte eine Tour ausfallen\, wird dies innerhalb der RCKL-Signal-Gruppe mitgeteilt. \nNach der Tour\, gegen 20:00 Uhr\, treffen sich die Gruppen mit Mitgliedern und Gästen zum jour fixe in einer Gaststätte in KR-Linn.
URL:https://radfahrerclub.de/event/rennradtour-30/
LOCATION:Heimatbrunnen KR-Linn\, Heimatbrunnen\, Krefeld-Linn\, NRW\, 47809\, Deutschland
CATEGORIES:Rennradtour
ORGANIZER;CN="Radfahrer-Club Krefeld-Linn 1897 e.V.":MAILTO:info@radfahrerclub.de
END:VEVENT
BEGIN:VEVENT
DTSTART;TZID=Europe/Berlin:20250521T180000
DTEND;TZID=Europe/Berlin:20250521T180000
DTSTAMP:20260420T143652
CREATED:20250105T175150Z
LAST-MODIFIED:20250105T175647Z
UID:1105-1747850400-1747850400@radfahrerclub.de
SUMMARY:Graveltour
DESCRIPTION:Auf den Graveltouren des RCKL werden am Niederrhein u.a. Feld- und Waldwege befahren. Das Tempo ist stets angepasst und liegt zwischen 18 km/h und 20 km/h. Die Dauer liegt zwischen 2 bis 2\,5 Stunden. Jede Tour wird von einem Guide geleitet. \nGäste und Mitglieder sind herzlich willkommen. \nFür die Touren sind Gravelbikes\, Mountainbikes und Cyclocrosser sehr gut geeignet. \nSollten die Witterungsverhältnisse eine Graveltour nicht zulassen\, wird diese kurzfristig über die RCKL-Signal-Gruppe abgesagt. \nNach der Tour\, gegen 20:00 Uhr\, treffen sich die Gruppen mit Mitgliedern und Gästen zum jour fixe in einer Gaststätte in KR-Linn. \n 
URL:https://radfahrerclub.de/event/graveltour-28/
LOCATION:Heimatbrunnen KR-Linn\, Heimatbrunnen\, Krefeld-Linn\, NRW\, 47809\, Deutschland
CATEGORIES:Graveltouren
ORGANIZER;CN="Radfahrer-Club Krefeld-Linn 1897 e.V.":MAILTO:info@radfahrerclub.de
END:VEVENT
BEGIN:VEVENT
DTSTART;TZID=Europe/Berlin:20250525T100000
DTEND;TZID=Europe/Berlin:20250525T170000
DTSTAMP:20260420T143652
CREATED:20250105T170846Z
LAST-MODIFIED:20250105T173452Z
UID:1071-1748167200-1748192400@radfahrerclub.de
SUMMARY:1. KulTOUR - Spargelfahrt nach Walbeck
DESCRIPTION:Die Radwanderer fahren voraus\, die Graveler und Rennradfahrer hinterher. \nIn Walbeck wird gemeinsam Spargel gegessen. \nLecker! \nMitglieder und Gäste sind herzlich willkommen! \nAnmeldung erforderlich! \nEinzelheiten werden noch bekannt gegeben.
URL:https://radfahrerclub.de/event/1-kultour-spargelfahrt-nach-walbeck/
LOCATION:Heimatbrunnen KR-Linn\, Heimatbrunnen\, Krefeld-Linn\, NRW\, 47809\, Deutschland
CATEGORIES:Clubleben,Graveltouren,Radwanderung,Rennradtour
ORGANIZER;CN="Radfahrer-Club Krefeld-Linn 1897 e.V.":MAILTO:info@radfahrerclub.de
END:VEVENT
BEGIN:VEVENT
DTSTART;TZID=Europe/Berlin:20250528T180000
DTEND;TZID=Europe/Berlin:20250528T180000
DTSTAMP:20260420T143652
CREATED:20250105T162528Z
LAST-MODIFIED:20250105T162528Z
UID:1033-1748455200-1748455200@radfahrerclub.de
SUMMARY:Rennradtour
DESCRIPTION:Auf den Rennradtouren des RCKL werden zwei Geschwindigkeitsgruppen – „Espresso und Cappuccino“ – angeboten. \nBei „Espresso“ wird eine Geschwindigkeit von 28 km/h (im Durchschnitt) und mehr gefahren. \nBei „Cappuccino“ wird eine Geschwindigkeit bis 24 km/h (im Durchschnitt) gefahren. \nDie Zuordnung erfolgt jeweils spontan am Heimatbrunnen. \nDie Streckenlänge beträgt ca. 50 km. \nJede Tour wird von einem erfahrenen Guide geleitet. \nSollte eine Tour ausfallen\, wird dies innerhalb der RCKL-Signal-Gruppe mitgeteilt. \nNach der Tour\, gegen 20:00 Uhr\, treffen sich die Gruppen mit Mitgliedern und Gästen zum jour fixe in einer Gaststätte in KR-Linn.
URL:https://radfahrerclub.de/event/rennradtour-31/
LOCATION:Heimatbrunnen KR-Linn\, Heimatbrunnen\, Krefeld-Linn\, NRW\, 47809\, Deutschland
CATEGORIES:Rennradtour
ORGANIZER;CN="Radfahrer-Club Krefeld-Linn 1897 e.V.":MAILTO:info@radfahrerclub.de
END:VEVENT
BEGIN:VEVENT
DTSTART;TZID=Europe/Berlin:20250528T180000
DTEND;TZID=Europe/Berlin:20250528T180000
DTSTAMP:20260420T143652
CREATED:20250105T175241Z
LAST-MODIFIED:20250105T175542Z
UID:1107-1748455200-1748455200@radfahrerclub.de
SUMMARY:Graveltour
DESCRIPTION:Auf den Graveltouren des RCKL werden am Niederrhein u.a. Feld- und Waldwege befahren. Das Tempo ist stets angepasst und liegt zwischen 18 km/h und 20 km/h. Die Dauer liegt zwischen 2 bis 2\,5 Stunden. Jede Tour wird von einem Guide geleitet. \nGäste und Mitglieder sind herzlich willkommen. \nFür die Touren sind Gravelbikes\, Mountainbikes und Cyclocrosser sehr gut geeignet. \nSollten die Witterungsverhältnisse eine Graveltour nicht zulassen\, wird diese kurzfristig über die RCKL-Signal-Gruppe abgesagt. \nNach der Tour\, gegen 20:00 Uhr\, treffen sich die Gruppen mit Mitgliedern und Gästen zum jour fixe in einer Gaststätte in KR-Linn.
URL:https://radfahrerclub.de/event/graveltour-29/
LOCATION:Heimatbrunnen KR-Linn\, Heimatbrunnen\, Krefeld-Linn\, NRW\, 47809\, Deutschland
CATEGORIES:Graveltouren
ORGANIZER;CN="Radfahrer-Club Krefeld-Linn 1897 e.V.":MAILTO:info@radfahrerclub.de
END:VEVENT
BEGIN:VEVENT
DTSTART;TZID=Europe/Berlin:20250529T103000
DTEND;TZID=Europe/Berlin:20250529T103000
DTSTAMP:20260420T143652
CREATED:20240806T121617Z
LAST-MODIFIED:20240806T121617Z
UID:796-1748514600-1748514600@radfahrerclub.de
SUMMARY:Radwanderung
DESCRIPTION:Auf den stets geleiteten und legendären Radwanderungen des RCKL lernst Du den Niederrhein von seiner schönsten Seite kennen. Unsere Touren sind u.a. aus dem historischen Fahrtenbuch des RCKL entnommen. Auf der Donnerstags-Tour wird eingekehrt. \nGäste und Mitglieder sind herzlich willkommen! \nOb eBike\, Tourenrad oder historisches Rad\, alle Fahrradtypen sind zulässig. \nUm Anmeldung wird gebeten unter Tel. 02151/398739 oder info@radfahrerclub.de \nTerminänderungen sind ausdrücklich vorbehalten. \nBei Regen\, Schnee oder Glatteis fällt die Radwanderung aus. \n 
URL:https://radfahrerclub.de/event/radwanderung-47/
LOCATION:Heimatbrunnen KR-Linn\, Heimatbrunnen\, Krefeld-Linn\, NRW\, 47809\, Deutschland
CATEGORIES:Radwanderung
ORGANIZER;CN="Radfahrer-Club Krefeld-Linn 1897 e.V.":MAILTO:info@radfahrerclub.de
END:VEVENT
END:VCALENDAR