BEGIN:VCALENDAR
VERSION:2.0
PRODID:-// - ECPv6.15.20//NONSGML v1.0//EN
CALSCALE:GREGORIAN
METHOD:PUBLISH
X-ORIGINAL-URL:https://radfahrerclub.de
X-WR-CALDESC:Veranstaltungen für 
REFRESH-INTERVAL;VALUE=DURATION:PT1H
X-Robots-Tag:noindex
X-PUBLISHED-TTL:PT1H
BEGIN:VTIMEZONE
TZID:Europe/Berlin
BEGIN:DAYLIGHT
TZOFFSETFROM:+0100
TZOFFSETTO:+0200
TZNAME:CEST
DTSTART:20240331T010000
END:DAYLIGHT
BEGIN:STANDARD
TZOFFSETFROM:+0200
TZOFFSETTO:+0100
TZNAME:CET
DTSTART:20241027T010000
END:STANDARD
BEGIN:DAYLIGHT
TZOFFSETFROM:+0100
TZOFFSETTO:+0200
TZNAME:CEST
DTSTART:20250330T010000
END:DAYLIGHT
BEGIN:STANDARD
TZOFFSETFROM:+0200
TZOFFSETTO:+0100
TZNAME:CET
DTSTART:20251026T010000
END:STANDARD
BEGIN:DAYLIGHT
TZOFFSETFROM:+0100
TZOFFSETTO:+0200
TZNAME:CEST
DTSTART:20260329T010000
END:DAYLIGHT
BEGIN:STANDARD
TZOFFSETFROM:+0200
TZOFFSETTO:+0100
TZNAME:CET
DTSTART:20261025T010000
END:STANDARD
END:VTIMEZONE
BEGIN:VEVENT
DTSTART;TZID=Europe/Berlin:20250301T090000
DTEND;TZID=Europe/Berlin:20250301T103000
DTSTAMP:20260420T180205
CREATED:20250210T171851Z
LAST-MODIFIED:20250210T171851Z
UID:1183-1740819600-1740825000@radfahrerclub.de
SUMMARY:Bahnradeinweisung
DESCRIPTION:Nur für Mitglieder!
URL:https://radfahrerclub.de/event/bahnradeinweisung/
LOCATION:Sportzentrum Kaarst-Büttgen\, Olympiastr. 5\, Kaarst\, NRW\, 41564\, Deutschland
CATEGORIES:Bahnrad
ORGANIZER;CN="Radfahrer-Club Krefeld-Linn 1897 e.V.":MAILTO:info@radfahrerclub.de
END:VEVENT
BEGIN:VEVENT
DTSTART;TZID=Europe/Berlin:20250302T110000
DTEND;TZID=Europe/Berlin:20250302T110000
DTSTAMP:20260420T180205
CREATED:20241119T135036Z
LAST-MODIFIED:20241119T135036Z
UID:884-1740913200-1740913200@radfahrerclub.de
SUMMARY:Graveltour
DESCRIPTION:Auf den Graveltouren des RCKL werden am Niederrhein u.a. Feld- und Waldwege befahren. Das Tempo ist stets angepasst und liegt zwischen 18 km/h und 20 km/h. Die Dauer liegt zwischen 2 bis 2\,5 Stunden. \nGäste und Mitglieder sind herzlich willkommen. \nFür die Touren sind Gravelbikes\, Mountainbikes und Cyclocrosser sehr gut geeignet. \nSollten die Witterungsverhältnisse eine Graveltour nicht zulassen\, wird diese kurzfristig über die RCKL-Signal-Gruppe abgesagt. \n 
URL:https://radfahrerclub.de/event/graveltour-20/
LOCATION:Heimatbrunnen KR-Linn\, Heimatbrunnen\, Krefeld-Linn\, NRW\, 47809\, Deutschland
CATEGORIES:Graveltouren
ORGANIZER;CN="Radfahrer-Club Krefeld-Linn 1897 e.V.":MAILTO:info@radfahrerclub.de
END:VEVENT
BEGIN:VEVENT
DTSTART;TZID=Europe/Berlin:20250305T200000
DTEND;TZID=Europe/Berlin:20250305T220000
DTSTAMP:20260420T180205
CREATED:20250123T161453Z
LAST-MODIFIED:20250123T161453Z
UID:1172-1741204800-1741212000@radfahrerclub.de
SUMMARY:Bahnrad - in Büttgen
DESCRIPTION:Training auf der Bahn für Mitglieder und Gäste mit Einweisung. Großer Spaß! \n 
URL:https://radfahrerclub.de/event/bahnrad-in-buettgen-2/
LOCATION:Sportzentrum Kaarst-Büttgen\, Olympiastr. 5\, Kaarst\, NRW\, 41564\, Deutschland
CATEGORIES:Bahnrad
ORGANIZER;CN="Radfahrer-Club Krefeld-Linn 1897 e.V.":MAILTO:info@radfahrerclub.de
END:VEVENT
BEGIN:VEVENT
DTSTART;TZID=Europe/Berlin:20250312T193000
DTEND;TZID=Europe/Berlin:20250312T193000
DTSTAMP:20260420T180205
CREATED:20241119T134453Z
LAST-MODIFIED:20241120T161503Z
UID:878-1741807800-1741807800@radfahrerclub.de
SUMMARY:eSport - "ZWIFT-TOUR"
DESCRIPTION:Die RCKL – Rennradfahrer und Graveler verlagern ihre Mittwochsrunde in die virtuelle Welt von ZWIFT. Hier fahren wir im ZWIFT-Club RCKL. Zu den Fahrten wird über die ZWIFT-Companion-APP eingeladen. \nEs wird in der Regel eine Stunde gefahren. Geschwindigkeit wird angepasst. \nEin sehr gutes Wintertraining\, das die From und Fitness erhält und sehr viel Spaß macht. \nTechnische Fragen und Anmeldungen bitte an info@radfahrerclub.de. \n  \n 
URL:https://radfahrerclub.de/event/esport-zwift-tour-12/
LOCATION:Jeweils zu Hause!
CATEGORIES:ZWIFT-Tour
ORGANIZER;CN="Radfahrer-Club Krefeld-Linn 1897 e.V.":MAILTO:info@radfahrerclub.de
END:VEVENT
BEGIN:VEVENT
DTSTART;TZID=Europe/Berlin:20250313T193000
DTEND;TZID=Europe/Berlin:20250313T193000
DTSTAMP:20260420T180205
CREATED:20250120T205445Z
LAST-MODIFIED:20250120T205445Z
UID:1160-1741894200-1741894200@radfahrerclub.de
SUMMARY:RCKL - Jahreshauptversammlung
DESCRIPTION:  \nNur Mitglieder treffen sich zur Jahreshauptversammlung im „Em Kontörke“ in Linn.
URL:https://radfahrerclub.de/event/rckl-jahreshauptversammlung-2/
LOCATION:Em Kontörke\, Margaretenstr. 40\, Krefeld-Linn\, NRW\, 47809\, Deutschland
CATEGORIES:Clubleben
ORGANIZER;CN="Radfahrer-Club Krefeld-Linn 1897 e.V.":MAILTO:info@radfahrerclub.de
END:VEVENT
BEGIN:VEVENT
DTSTART;TZID=Europe/Berlin:20250316T100000
DTEND;TZID=Europe/Berlin:20250316T100000
DTSTAMP:20260420T180205
CREATED:20240806T120303Z
LAST-MODIFIED:20240806T120303Z
UID:783-1742119200-1742119200@radfahrerclub.de
SUMMARY:Radwanderung
DESCRIPTION:Auf den stets geleiteten und legendären Radwanderungen des RCKL lernst Du den Niederrhein von seiner schönsten Seite kennen. Unsere Touren sind u.a. aus dem historischen Fahrtenbuch des RCKL entnommen. Auf der Donnerstags-Tour wird eingekehrt. \nGäste und Mitglieder sind herzlich willkommen! \nOb eBike\, Tourenrad oder historisches Rad\, alle Fahrradtypen sind zulässig. \nUm Anmeldung wird gebeten unter Tel. 02151/398739 oder info@radfahrerclub.de \nTerminänderungen sind ausdrücklich vorbehalten. \nBei Regen\, Schnee oder Glatteis fällt die Radwanderung aus. \n 
URL:https://radfahrerclub.de/event/radwanderung-41/
LOCATION:Heimatbrunnen KR-Linn\, Heimatbrunnen\, Krefeld-Linn\, NRW\, 47809\, Deutschland
CATEGORIES:Radwanderung
ORGANIZER;CN="Radfahrer-Club Krefeld-Linn 1897 e.V.":MAILTO:info@radfahrerclub.de
END:VEVENT
BEGIN:VEVENT
DTSTART;TZID=Europe/Berlin:20250316T110000
DTEND;TZID=Europe/Berlin:20250316T110000
DTSTAMP:20260420T180205
CREATED:20241119T135207Z
LAST-MODIFIED:20241119T135207Z
UID:886-1742122800-1742122800@radfahrerclub.de
SUMMARY:Graveltour
DESCRIPTION:Auf den Graveltouren des RCKL werden am Niederrhein u.a. Feld- und Waldwege befahren. Das Tempo ist stets angepasst und liegt zwischen 18 km/h und 20 km/h. Die Dauer liegt zwischen 2 bis 2\,5 Stunden. \nGäste und Mitglieder sind herzlich willkommen. \nFür die Touren sind Gravelbikes\, Mountainbikes und Cyclocrosser sehr gut geeignet. \nSollten die Witterungsverhältnisse eine Graveltour nicht zulassen\, wird diese kurzfristig über die RCKL-Signal-Gruppe abgesagt. \n 
URL:https://radfahrerclub.de/event/graveltour-21/
LOCATION:Heimatbrunnen KR-Linn\, Heimatbrunnen\, Krefeld-Linn\, NRW\, 47809\, Deutschland
CATEGORIES:Graveltouren
ORGANIZER;CN="Radfahrer-Club Krefeld-Linn 1897 e.V.":MAILTO:info@radfahrerclub.de
END:VEVENT
BEGIN:VEVENT
DTSTART;TZID=Europe/Berlin:20250319T193000
DTEND;TZID=Europe/Berlin:20250319T193000
DTSTAMP:20260420T180205
CREATED:20241119T134605Z
LAST-MODIFIED:20241120T161537Z
UID:880-1742412600-1742412600@radfahrerclub.de
SUMMARY:eSport - "ZWIFT-TOUR"
DESCRIPTION:Die RCKL – Rennradfahrer und Graveler verlagern ihre Mittwochsrunde in die virtuelle Welt von ZWIFT. Hier fahren wir im ZWIFT-Club RCKL. Zu den Fahrten wird über die ZWIFT-Companion-APP eingeladen. \nEs wird in der Regel eine Stunde gefahren. Geschwindigkeit wird angepasst. \nEin sehr gutes Wintertraining\, das die From und Fitness erhält und sehr viel Spaß macht. \nTechnische Fragen und Anmeldungen bitte an info@radfahrerclub.de. \n  \n 
URL:https://radfahrerclub.de/event/esport-zwift-tour-13/
LOCATION:Jeweils zu Hause!
CATEGORIES:ZWIFT-Tour
ORGANIZER;CN="Radfahrer-Club Krefeld-Linn 1897 e.V.":MAILTO:info@radfahrerclub.de
END:VEVENT
BEGIN:VEVENT
DTSTART;TZID=Europe/Berlin:20250322T090000
DTEND;TZID=Europe/Berlin:20250322T090000
DTSTAMP:20260420T180205
CREATED:20241119T141334Z
LAST-MODIFIED:20241119T141435Z
UID:892-1742634000-1742634000@radfahrerclub.de
SUMMARY:Rennradtour - RTF Ratingen
DESCRIPTION:Die Rennradfahrer des RCKL nehmen an der RTF in Ratingen teil. Ein guter „Preseasion-Opener“. \nEinzelheiten erfolgen noch. \nFreunde und Gäste des RCKL sind herzlich willkommen und wollen sich bitte unter info@radfahrerclub.de anmelden.
URL:https://radfahrerclub.de/event/rennradtour-rtf-ratingen/
LOCATION:Heimatbrunnen KR-Linn\, Heimatbrunnen\, Krefeld-Linn\, NRW\, 47809\, Deutschland
CATEGORIES:Rennradtour
ORGANIZER;CN="Radfahrer-Club Krefeld-Linn 1897 e.V.":MAILTO:info@radfahrerclub.de
END:VEVENT
BEGIN:VEVENT
DTSTART;TZID=Europe/Berlin:20250323T090000
DTEND;TZID=Europe/Berlin:20250323T090000
DTSTAMP:20260420T180205
CREATED:20241119T140157Z
LAST-MODIFIED:20241119T140157Z
UID:888-1742720400-1742720400@radfahrerclub.de
SUMMARY:Graveltour - Sophienhöhe
DESCRIPTION:Die Graveler des RCKL werden am Gravelride „Auf der Sophienhöhe“ veranstaltet von der Kooperation des SV Malefinkbach 1983 e.V. und des TV 1885 Huchel-Stammelm e.V. teilnehmen. \nDabei können drei Strecken ausgewählt werden: \n22 km mit 150 HM\, 43 km mit 350 HM und 58 km mit 550HM. \nEine Gebühr wird vor Ort erhoben. \nEinzelheiten erfolgen in der Signal-Gravelgruppe des RCKL. \nSollten Gäste und Freunde des RCKL ebenfalls daran teilnehmen wollen\, wird um Anmeldung bis zum 15.03.2025 unter info@radfahrerclub.de gebeten. \n  \n 
URL:https://radfahrerclub.de/event/graveltour-sophienhoehe/
LOCATION:Heimatbrunnen KR-Linn\, Heimatbrunnen\, Krefeld-Linn\, NRW\, 47809\, Deutschland
CATEGORIES:Graveltouren
ORGANIZER;CN="Radfahrer-Club Krefeld-Linn 1897 e.V.":MAILTO:info@radfahrerclub.de
END:VEVENT
BEGIN:VEVENT
DTSTART;TZID=Europe/Berlin:20250326T193000
DTEND;TZID=Europe/Berlin:20250326T193000
DTSTAMP:20260420T180205
CREATED:20241119T134729Z
LAST-MODIFIED:20241120T161558Z
UID:882-1743017400-1743017400@radfahrerclub.de
SUMMARY:eSport - "ZWIFT-TOUR"
DESCRIPTION:Die RCKL – Rennradfahrer und Graveler verlagern ihre Mittwochsrunde in die virtuelle Welt von ZWIFT. Hier fahren wir im ZWIFT-Club RCKL. Zu den Fahrten wird über die ZWIFT-Companion-APP eingeladen. \nEs wird in der Regel eine Stunde gefahren. Geschwindigkeit wird angepasst. \nEin sehr gutes Wintertraining\, das die From und Fitness erhält und sehr viel Spaß macht. \nTechnische Fragen und Anmeldungen bitte an info@radfahrerclub.de. \n  \n 
URL:https://radfahrerclub.de/event/esport-zwift-tour-14/
LOCATION:Jeweils zu Hause!
CATEGORIES:ZWIFT-Tour
ORGANIZER;CN="Radfahrer-Club Krefeld-Linn 1897 e.V.":MAILTO:info@radfahrerclub.de
END:VEVENT
BEGIN:VEVENT
DTSTART;TZID=Europe/Berlin:20250326T200000
DTEND;TZID=Europe/Berlin:20250326T220000
DTSTAMP:20260420T180205
CREATED:20250123T161615Z
LAST-MODIFIED:20250123T161615Z
UID:1174-1743019200-1743026400@radfahrerclub.de
SUMMARY:Bahnrad - in Büttgen
DESCRIPTION:Training auf der Bahn für Mitglieder und Gäste mit Einweisung. Großer Spaß! \n 
URL:https://radfahrerclub.de/event/bahnrad-in-buettgen-3/
LOCATION:Sportzentrum Kaarst-Büttgen\, Olympiastr. 5\, Kaarst\, NRW\, 41564\, Deutschland
CATEGORIES:Bahnrad
ORGANIZER;CN="Radfahrer-Club Krefeld-Linn 1897 e.V.":MAILTO:info@radfahrerclub.de
END:VEVENT
END:VCALENDAR