BEGIN:VCALENDAR
VERSION:2.0
PRODID:-// - ECPv6.15.20//NONSGML v1.0//EN
CALSCALE:GREGORIAN
METHOD:PUBLISH
X-ORIGINAL-URL:https://radfahrerclub.de
X-WR-CALDESC:Veranstaltungen für 
REFRESH-INTERVAL;VALUE=DURATION:PT1H
X-Robots-Tag:noindex
X-PUBLISHED-TTL:PT1H
BEGIN:VTIMEZONE
TZID:Europe/Berlin
BEGIN:DAYLIGHT
TZOFFSETFROM:+0100
TZOFFSETTO:+0200
TZNAME:CEST
DTSTART:20240331T010000
END:DAYLIGHT
BEGIN:STANDARD
TZOFFSETFROM:+0200
TZOFFSETTO:+0100
TZNAME:CET
DTSTART:20241027T010000
END:STANDARD
BEGIN:DAYLIGHT
TZOFFSETFROM:+0100
TZOFFSETTO:+0200
TZNAME:CEST
DTSTART:20250330T010000
END:DAYLIGHT
BEGIN:STANDARD
TZOFFSETFROM:+0200
TZOFFSETTO:+0100
TZNAME:CET
DTSTART:20251026T010000
END:STANDARD
BEGIN:DAYLIGHT
TZOFFSETFROM:+0100
TZOFFSETTO:+0200
TZNAME:CEST
DTSTART:20260329T010000
END:DAYLIGHT
BEGIN:STANDARD
TZOFFSETFROM:+0200
TZOFFSETTO:+0100
TZNAME:CET
DTSTART:20261025T010000
END:STANDARD
END:VTIMEZONE
BEGIN:VEVENT
DTSTART;TZID=Europe/Berlin:20250104T110000
DTEND;TZID=Europe/Berlin:20250104T170000
DTSTAMP:20260420T211217
CREATED:20241118T154635Z
LAST-MODIFIED:20241118T154635Z
UID:831-1735988400-1736010000@radfahrerclub.de
SUMMARY:Neujahrstour - Eintopf
DESCRIPTION:Radwanderer\, Rennradfahrer und Graveler des RCKL fahren auf unterschiedlichen Strecken nach Kempen. Dort wird auf Gut Heimendahl zum Eintopf eingekehrt. Änderungen vorbehalten!
URL:https://radfahrerclub.de/event/neujahrstour-eintopf/
LOCATION:Heimatbrunnen KR-Linn\, Heimatbrunnen\, Krefeld-Linn\, NRW\, 47809\, Deutschland
CATEGORIES:Clubleben,Graveltouren,Radwanderung,Rennradtour
ORGANIZER;CN="Radfahrer-Club Krefeld-Linn 1897 e.V.":MAILTO:info@radfahrerclub.de
END:VEVENT
BEGIN:VEVENT
DTSTART;TZID=Europe/Berlin:20250112T110000
DTEND;TZID=Europe/Berlin:20250112T110000
DTSTAMP:20260420T211217
CREATED:20241119T113432Z
LAST-MODIFIED:20241119T114144Z
UID:834-1736679600-1736679600@radfahrerclub.de
SUMMARY:Graveltour
DESCRIPTION:Auf den Graveltouren des RCKL werden am Niederrhein u.a. Feld- und Waldwege befahren. Das Tempo ist stets angepasst und liegt zwischen 18 km/h und 20 km/h. Die Dauer liegt zwischen 2 bis 2\,5 Stunden. \nGäste und Mitglieder sind herzlich willkommen. \nFür die Touren sind Gravelbikes\, Mountainbikes und Cyclocrosser sehr gut geeignet. \nSollten die Witterungsverhältnisse eine Graveltour nicht zulassen\, wird diese kurzfristig über die RCKL-Signal-Gruppe abgesagt. \n  \n  \n  \n  \n 
URL:https://radfahrerclub.de/event/gravelrour/
LOCATION:Heimatbrunnen KR-Linn\, Heimatbrunnen\, Krefeld-Linn\, NRW\, 47809\, Deutschland
CATEGORIES:Graveltouren
ORGANIZER;CN="Radfahrer-Club Krefeld-Linn 1897 e.V.":MAILTO:info@radfahrerclub.de
END:VEVENT
BEGIN:VEVENT
DTSTART;TZID=Europe/Berlin:20250115T193000
DTEND;TZID=Europe/Berlin:20250115T193000
DTSTAMP:20260420T211217
CREATED:20241119T123834Z
LAST-MODIFIED:20241120T161230Z
UID:866-1736969400-1736969400@radfahrerclub.de
SUMMARY:eSport - "ZWIFT-TOUR"
DESCRIPTION:Die RCKL – Rennradfahrer und Graveler verlagern ihre Mittwochsrunde in die virtuelle Welt von ZWIFT. Hier fahren wir im ZWIFT-Club RCKL. Zu den Fahrten wird über die ZWIFT-Companion-APP eingeladen. \nEs wird in der Regel eine Stunde gefahren. Geschwindigkeit wird angepasst. \nEin sehr gutes Wintertraining\, das die From und Fitness erhält und sehr viel Spaß macht. \nTechnische Fragen und Anmeldungen bitte an info@radfahrerclub.de. \n 
URL:https://radfahrerclub.de/event/esport-zwift-tour-6/
LOCATION:Jeweils zu Hause!
CATEGORIES:ZWIFT-Tour
ORGANIZER;CN="Radfahrer-Club Krefeld-Linn 1897 e.V.":MAILTO:info@radfahrerclub.de
END:VEVENT
BEGIN:VEVENT
DTSTART;TZID=Europe/Berlin:20250119T100000
DTEND;TZID=Europe/Berlin:20250119T100000
DTSTAMP:20260420T211217
CREATED:20240806T115619Z
LAST-MODIFIED:20240806T115619Z
UID:779-1737280800-1737280800@radfahrerclub.de
SUMMARY:Radwanderung
DESCRIPTION:Auf den stets geleiteten und legendären Radwanderungen des RCKL lernst Du den Niederrhein von seiner schönsten Seite kennen. Unsere Touren sind u.a. aus dem historischen Fahrtenbuch des RCKL entnommen. Auf der Donnerstags-Tour wird eingekehrt. \nGäste und Mitglieder sind herzlich willkommen! \nOb eBike\, Tourenrad oder historisches Rad\, alle Fahrradtypen sind zulässig. \nUm Anmeldung wird gebeten unter Tel. 02151/398739 oder info@radfahrerclub.de \nTerminänderungen sind ausdrücklich vorbehalten. \nBei Regen\, Schnee oder Glatteis fällt die Radwanderung aus. \n 
URL:https://radfahrerclub.de/event/radwanderung-39/
LOCATION:Heimatbrunnen KR-Linn\, Heimatbrunnen\, Krefeld-Linn\, NRW\, 47809\, Deutschland
CATEGORIES:Radwanderung
ORGANIZER;CN="Radfahrer-Club Krefeld-Linn 1897 e.V.":MAILTO:info@radfahrerclub.de
END:VEVENT
BEGIN:VEVENT
DTSTART;TZID=Europe/Berlin:20250122T193000
DTEND;TZID=Europe/Berlin:20250122T193000
DTSTAMP:20260420T211217
CREATED:20241119T124010Z
LAST-MODIFIED:20241120T161311Z
UID:868-1737574200-1737574200@radfahrerclub.de
SUMMARY:eSport - "ZWIFT-TOUR"
DESCRIPTION:Die RCKL – Rennradfahrer und Graveler verlagern ihre Mittwochsrunde in die virtuelle Welt von ZWIFT. Hier fahren wir im ZWIFT-Club RCKL. Zu den Fahrten wird über die ZWIFT-Companion-APP eingeladen. \nEs wird in der Regel eine Stunde gefahren. Geschwindigkeit wird angepasst. \nEin sehr gutes Wintertraining\, das die From und Fitness erhält und sehr viel Spaß macht. \nTechnische Fragen und Anmeldungen bitte an info@radfahrerclub.de. \n  \n 
URL:https://radfahrerclub.de/event/esport-zwift-tour-7/
LOCATION:Jeweils zu Hause!
CATEGORIES:ZWIFT-Tour
ORGANIZER;CN="Radfahrer-Club Krefeld-Linn 1897 e.V.":MAILTO:info@radfahrerclub.de
END:VEVENT
BEGIN:VEVENT
DTSTART;TZID=Europe/Berlin:20250129T193000
DTEND;TZID=Europe/Berlin:20250129T193000
DTSTAMP:20260420T211217
CREATED:20241119T124207Z
LAST-MODIFIED:20241120T161331Z
UID:870-1738179000-1738179000@radfahrerclub.de
SUMMARY:eSport - "ZWIFT-TOUR"
DESCRIPTION:Die RCKL – Rennradfahrer und Graveler verlagern ihre Mittwochsrunde in die virtuelle Welt von ZWIFT. Hier fahren wir im ZWIFT-Club RCKL. Zu den Fahrten wird über die ZWIFT-Companion-APP eingeladen. \nEs wird in der Regel eine Stunde gefahren. Geschwindigkeit wird angepasst. \nEin sehr gutes Wintertraining\, das die From und Fitness erhält und sehr viel Spaß macht. \nTechnische Fragen und Anmeldungen bitte an info@radfahrerclub.de. \n  \n 
URL:https://radfahrerclub.de/event/esport-zwift-tour-8/
LOCATION:Jeweils zu Hause!
CATEGORIES:ZWIFT-Tour
ORGANIZER;CN="Radfahrer-Club Krefeld-Linn 1897 e.V.":MAILTO:info@radfahrerclub.de
END:VEVENT
END:VCALENDAR