BEGIN:VCALENDAR
VERSION:2.0
PRODID:-// - ECPv6.15.20//NONSGML v1.0//EN
CALSCALE:GREGORIAN
METHOD:PUBLISH
X-ORIGINAL-URL:https://radfahrerclub.de
X-WR-CALDESC:Veranstaltungen für 
REFRESH-INTERVAL;VALUE=DURATION:PT1H
X-Robots-Tag:noindex
X-PUBLISHED-TTL:PT1H
BEGIN:VTIMEZONE
TZID:Europe/Berlin
BEGIN:DAYLIGHT
TZOFFSETFROM:+0100
TZOFFSETTO:+0200
TZNAME:CEST
DTSTART:20230326T010000
END:DAYLIGHT
BEGIN:STANDARD
TZOFFSETFROM:+0200
TZOFFSETTO:+0100
TZNAME:CET
DTSTART:20231029T010000
END:STANDARD
BEGIN:DAYLIGHT
TZOFFSETFROM:+0100
TZOFFSETTO:+0200
TZNAME:CEST
DTSTART:20240331T010000
END:DAYLIGHT
BEGIN:STANDARD
TZOFFSETFROM:+0200
TZOFFSETTO:+0100
TZNAME:CET
DTSTART:20241027T010000
END:STANDARD
BEGIN:DAYLIGHT
TZOFFSETFROM:+0100
TZOFFSETTO:+0200
TZNAME:CEST
DTSTART:20250330T010000
END:DAYLIGHT
BEGIN:STANDARD
TZOFFSETFROM:+0200
TZOFFSETTO:+0100
TZNAME:CET
DTSTART:20251026T010000
END:STANDARD
END:VTIMEZONE
BEGIN:VEVENT
DTSTART;TZID=Europe/Berlin:20241208T110000
DTEND;TZID=Europe/Berlin:20241208T110000
DTSTAMP:20260420T225312
CREATED:20240806T110040Z
LAST-MODIFIED:20240806T110040Z
UID:756-1733655600-1733655600@radfahrerclub.de
SUMMARY:Graveltour
DESCRIPTION:Auf den Graveltouren des RCKL werden am Niederrhein u.a. Feld- und Waldwege befahren. Das Tempo ist stets angepasst und liegt zwischen 18 km/h und 20 km/h. Die Dauer liegt zwischen 2 bis 2\,5 Stunden. \nGäste und Mitglieder sind herzlich willkommen. \nFür die Touren sind Gravelbikes\, Mountainbikes und Cyclocrosser sehr gut geeignet. \nSollten die Witterungsverhältnisse eine Graveltour nicht zulassen\, wird diese kurzfristig über die RCKL-Signal-Gruppe abgesagt. \n 
URL:https://radfahrerclub.de/event/graveltour-14/
LOCATION:Heimatbrunnen KR-Linn\, Heimatbrunnen\, Krefeld-Linn\, NRW\, 47809\, Deutschland
CATEGORIES:Graveltouren
ORGANIZER;CN="Radfahrer-Club Krefeld-Linn 1897 e.V.":MAILTO:info@radfahrerclub.de
END:VEVENT
BEGIN:VEVENT
DTSTART;TZID=Europe/Berlin:20241211T193000
DTEND;TZID=Europe/Berlin:20241211T193000
DTSTAMP:20260420T225312
CREATED:20241119T121856Z
LAST-MODIFIED:20241120T161137Z
UID:856-1733945400-1733945400@radfahrerclub.de
SUMMARY:eSport - "ZWIFT-TOUR"
DESCRIPTION:Die RCKL – Rennradfahrer und Graveler verlagern ihre Mittwochsrunde in die virtuelle Welt von ZWIFT. Hier fahren wir im ZWIFT-Club RCKL. Zu den Fahrten wird über die ZWIFT-Companion-APP eingeladen. \nEs wird in der Regel eine Stunde gefahren. Geschwindigkeit wird angepasst. \nEin sehr gutes Wintertraining\, das die From und Fitness erhält und sehr viel Spaß macht. \nTechnische Fragen und Anmeldungen bitte an info@radfahrerclub.de. \n 
URL:https://radfahrerclub.de/event/zwift-tour-3/
LOCATION:Jeweils zu Hause!
CATEGORIES:ZWIFT-Tour
ORGANIZER;CN="Radfahrer-Club Krefeld-Linn 1897 e.V.":MAILTO:info@radfahrerclub.de
END:VEVENT
BEGIN:VEVENT
DTSTART;TZID=Europe/Berlin:20241213T180000
DTEND;TZID=Europe/Berlin:20241213T220000
DTSTAMP:20260420T225312
CREATED:20240524T160209Z
LAST-MODIFIED:20240524T160317Z
UID:719-1734112800-1734127200@radfahrerclub.de
SUMMARY:Advent - Stammtisch
DESCRIPTION:Freunde und Gäste sind herzlich willkommen! \nUm Anmeldung unter info@radfahrerclub.de wird gebeten.
URL:https://radfahrerclub.de/event/advent-stammtisch/
LOCATION:Em Kontörke\, Margaretenstr. 40\, Krefeld-Linn\, NRW\, 47809\, Deutschland
CATEGORIES:Clubleben
END:VEVENT
BEGIN:VEVENT
DTSTART;TZID=Europe/Berlin:20241215T100000
DTEND;TZID=Europe/Berlin:20241215T100000
DTSTAMP:20260420T225312
CREATED:20240208T114201Z
LAST-MODIFIED:20240208T114201Z
UID:548-1734256800-1734256800@radfahrerclub.de
SUMMARY:Radwanderung
DESCRIPTION:Auf den stets geleiteten und legendären Radwanderungen des RCKL lernst Du den Niederrhein von seiner schönsten Seite kennen. Unsere Touren sind u.a. aus dem historischen Fahrtenbuch des RCKL entnommen. Auf der Donnerstags-Tour wird eingekehrt. \nGäste und Mitglieder sind herzlich willkommen! \nOb eBike\, Tourenrad oder historisches Rad\, alle Fahrradtypen sind zulässig. \nUm Anmeldung wird gebeten unter Tel. 02151/398739 oder info@radfahrerclub.de \nTerminänderungen sind ausdrücklich vorbehalten. \nBei Regen\, Schnee oder Glatteis fällt die Radwanderung aus. \n 
URL:https://radfahrerclub.de/event/radwanderung-38/
LOCATION:Heimatbrunnen KR-Linn\, Heimatbrunnen\, Krefeld-Linn\, NRW\, 47809\, Deutschland
CATEGORIES:Radwanderung
ORGANIZER;CN="Radfahrer-Club Krefeld-Linn 1897 e.V.":MAILTO:info@radfahrerclub.de
END:VEVENT
BEGIN:VEVENT
DTSTART;TZID=Europe/Berlin:20241215T110000
DTEND;TZID=Europe/Berlin:20241215T110000
DTSTAMP:20260420T225312
CREATED:20240806T110324Z
LAST-MODIFIED:20241118T153434Z
UID:758-1734260400-1734260400@radfahrerclub.de
SUMMARY:Glühwein-Graveltour
DESCRIPTION:  \nAuf dieser besonderen vorweihnachtlichen RCKL-Graveltour wird an einem für Mitglieder und Gäste noch unbekannten Ort Halt gemacht\, um einen Glühwein zu trinken. \nAuf den Graveltouren des RCKL werden am Niederrhein u.a. Feld- und Waldwege befahren. Das Tempo ist stets angepasst und liegt zwischen 18 km/h und 20 km/h. Die Dauer liegt zwischen 2 bis 2\,5 Stunden. \nGäste und Mitglieder sind herzlich willkommen. \nFür die Touren sind Gravelbikes\, Mountainbikes und Cyclocrosser sehr gut geeignet. \nSollten die Witterungsverhältnisse eine Graveltour nicht zulassen\, wird diese kurzfristig über die RCKL-Signal-Gruppe abgesagt. \n 
URL:https://radfahrerclub.de/event/graveltour-15/
LOCATION:Heimatbrunnen KR-Linn\, Heimatbrunnen\, Krefeld-Linn\, NRW\, 47809\, Deutschland
CATEGORIES:Graveltouren
ORGANIZER;CN="Radfahrer-Club Krefeld-Linn 1897 e.V.":MAILTO:info@radfahrerclub.de
END:VEVENT
BEGIN:VEVENT
DTSTART;TZID=Europe/Berlin:20241218T193000
DTEND;TZID=Europe/Berlin:20241218T193000
DTSTAMP:20260420T225312
CREATED:20241119T122301Z
LAST-MODIFIED:20241120T161204Z
UID:858-1734550200-1734550200@radfahrerclub.de
SUMMARY:eSport - "ZWIFT-TOUR"
DESCRIPTION:Die RCKL – Rennradfahrer und Graveler verlagern ihre Mittwochsrunde in die virtuelle Welt von ZWIFT. Hier fahren wir im ZWIFT-Club RCKL. Zu den Fahrten wird über die ZWIFT-Companion-APP eingeladen. \nEs wird in der Regel eine Stunde gefahren. Geschwindigkeit wird angepasst. \nEin sehr gutes Wintertraining\, das die From und Fitness erhält und sehr viel Spaß macht. \nTechnische Fragen und Anmeldungen bitte an info@radfahrerclub.de. \n 
URL:https://radfahrerclub.de/event/zwift-tour-4/
LOCATION:Jeweils zu Hause!
CATEGORIES:ZWIFT-Tour
ORGANIZER;CN="Radfahrer-Club Krefeld-Linn 1897 e.V.":MAILTO:info@radfahrerclub.de
END:VEVENT
BEGIN:VEVENT
DTSTART;TZID=Europe/Berlin:20241222T100000
DTEND;TZID=Europe/Berlin:20241222T150000
DTSTAMP:20260420T225312
CREATED:20240806T112459Z
LAST-MODIFIED:20240806T112739Z
UID:761-1734861600-1734879600@radfahrerclub.de
SUMMARY:Graveltour - Gravelty Rudolph durch die Veluwe\, NL
DESCRIPTION:Die „Graveler“ des RCKL werden an der Gruppenfahrt „Gravelty Rudolph“ von dem Veranstalter NL-Tourrides teilnehmen. \nDie Fahrt führt durch die wunderbare Landschaft der Veluwe in den Niederlanden. Auf etwa 65 km über Stock und Stein stellen die „Graveler“ des RCKL mit großer Freude ihr Können unter Beweis. \nGäste und Mitglieder sind herzlich willkommen! \nEinzelheiten zur Anmeldung werden noch bekannt gegeben und können unter info@radfahrerclub.de gerne erfragt werden.
URL:https://radfahrerclub.de/event/graveltour-gravelty-rudolph-durch-die-veluwe-nl/
LOCATION:NRW
CATEGORIES:Graveltouren
ORGANIZER;CN="Radfahrer-Club Krefeld-Linn 1897 e.V.":MAILTO:info@radfahrerclub.de
END:VEVENT
END:VCALENDAR