BEGIN:VCALENDAR
VERSION:2.0
PRODID:-// - ECPv6.15.20//NONSGML v1.0//EN
CALSCALE:GREGORIAN
METHOD:PUBLISH
X-ORIGINAL-URL:https://radfahrerclub.de
X-WR-CALDESC:Veranstaltungen für 
REFRESH-INTERVAL;VALUE=DURATION:PT1H
X-Robots-Tag:noindex
X-PUBLISHED-TTL:PT1H
BEGIN:VTIMEZONE
TZID:Europe/Berlin
BEGIN:DAYLIGHT
TZOFFSETFROM:+0100
TZOFFSETTO:+0200
TZNAME:CEST
DTSTART:20240331T010000
END:DAYLIGHT
BEGIN:STANDARD
TZOFFSETFROM:+0200
TZOFFSETTO:+0100
TZNAME:CET
DTSTART:20241027T010000
END:STANDARD
BEGIN:DAYLIGHT
TZOFFSETFROM:+0100
TZOFFSETTO:+0200
TZNAME:CEST
DTSTART:20250330T010000
END:DAYLIGHT
BEGIN:STANDARD
TZOFFSETFROM:+0200
TZOFFSETTO:+0100
TZNAME:CET
DTSTART:20251026T010000
END:STANDARD
BEGIN:DAYLIGHT
TZOFFSETFROM:+0100
TZOFFSETTO:+0200
TZNAME:CEST
DTSTART:20260329T010000
END:DAYLIGHT
BEGIN:STANDARD
TZOFFSETFROM:+0200
TZOFFSETTO:+0100
TZNAME:CET
DTSTART:20261025T010000
END:STANDARD
END:VTIMEZONE
BEGIN:VEVENT
DTSTART;TZID=Europe/Berlin:20250907T080000
DTEND;TZID=Europe/Berlin:20250907T170000
DTSTAMP:20260419T222355
CREATED:20250312T142842Z
LAST-MODIFIED:20250312T142842Z
UID:1214-1757232000-1757264400@radfahrerclub.de
SUMMARY:Rennradtour - RTF RSC Rheinbach
DESCRIPTION:Die Radsportfreunde der Rennradgruppe des RCKL werden an der RTF des RSC Rheinbach teilnehmen. \nFolgende Strecken werden angeboten: \n45 km und 330 Höhenmeter\, \n75 km und 750 Höhenmeter\, \n120 km und 1300 Höhenmeter. \nWeitere Informationen findet Ihr unter: www.rsc-rheinbach.de \nUm Anmeldung unter info@radfahrerclub.de oder in der RCKL-Signal-Rennradgruppe wird gebeten. \nEinzelheiten werden dann bekannt gegeben. \nTreffpunkt zur Abfahrt nach Rheinbach ist der Heimatbrunnen in KR-Linn. \n 
URL:https://radfahrerclub.de/event/rennradtour-rtf-rsc-rheinbach/
LOCATION:Heimatbrunnen KR-Linn\, Heimatbrunnen\, Krefeld-Linn\, NRW\, 47809\, Deutschland
CATEGORIES:Rennradtour
ORGANIZER;CN="Radfahrer-Club Krefeld-Linn 1897 e.V.":MAILTO:info@radfahrerclub.de
END:VEVENT
END:VCALENDAR