BEGIN:VCALENDAR
VERSION:2.0
PRODID:-// - ECPv6.15.20//NONSGML v1.0//EN
CALSCALE:GREGORIAN
METHOD:PUBLISH
X-ORIGINAL-URL:https://radfahrerclub.de
X-WR-CALDESC:Veranstaltungen für 
REFRESH-INTERVAL;VALUE=DURATION:PT1H
X-Robots-Tag:noindex
X-PUBLISHED-TTL:PT1H
BEGIN:VTIMEZONE
TZID:Europe/Berlin
BEGIN:DAYLIGHT
TZOFFSETFROM:+0100
TZOFFSETTO:+0200
TZNAME:CEST
DTSTART:20240331T010000
END:DAYLIGHT
BEGIN:STANDARD
TZOFFSETFROM:+0200
TZOFFSETTO:+0100
TZNAME:CET
DTSTART:20241027T010000
END:STANDARD
BEGIN:DAYLIGHT
TZOFFSETFROM:+0100
TZOFFSETTO:+0200
TZNAME:CEST
DTSTART:20250330T010000
END:DAYLIGHT
BEGIN:STANDARD
TZOFFSETFROM:+0200
TZOFFSETTO:+0100
TZNAME:CET
DTSTART:20251026T010000
END:STANDARD
BEGIN:DAYLIGHT
TZOFFSETFROM:+0100
TZOFFSETTO:+0200
TZNAME:CEST
DTSTART:20260329T010000
END:DAYLIGHT
BEGIN:STANDARD
TZOFFSETFROM:+0200
TZOFFSETTO:+0100
TZNAME:CET
DTSTART:20261025T010000
END:STANDARD
END:VTIMEZONE
BEGIN:VEVENT
DTSTART;TZID=Europe/Berlin:20250323T090000
DTEND;TZID=Europe/Berlin:20250323T090000
DTSTAMP:20260420T193047
CREATED:20241119T140157Z
LAST-MODIFIED:20241119T140157Z
UID:888-1742720400-1742720400@radfahrerclub.de
SUMMARY:Graveltour - Sophienhöhe
DESCRIPTION:Die Graveler des RCKL werden am Gravelride „Auf der Sophienhöhe“ veranstaltet von der Kooperation des SV Malefinkbach 1983 e.V. und des TV 1885 Huchel-Stammelm e.V. teilnehmen. \nDabei können drei Strecken ausgewählt werden: \n22 km mit 150 HM\, 43 km mit 350 HM und 58 km mit 550HM. \nEine Gebühr wird vor Ort erhoben. \nEinzelheiten erfolgen in der Signal-Gravelgruppe des RCKL. \nSollten Gäste und Freunde des RCKL ebenfalls daran teilnehmen wollen\, wird um Anmeldung bis zum 15.03.2025 unter info@radfahrerclub.de gebeten. \n  \n 
URL:https://radfahrerclub.de/event/graveltour-sophienhoehe/
LOCATION:Heimatbrunnen KR-Linn\, Heimatbrunnen\, Krefeld-Linn\, NRW\, 47809\, Deutschland
CATEGORIES:Graveltouren
ORGANIZER;CN="Radfahrer-Club Krefeld-Linn 1897 e.V.":MAILTO:info@radfahrerclub.de
END:VEVENT
END:VCALENDAR